BEGIN:VCALENDAR
VERSION:2.0
PRODID:-//Tremont School - ECPv6.15.20//NONSGML v1.0//EN
CALSCALE:GREGORIAN
METHOD:PUBLISH
X-WR-CALNAME:Tremont School
X-ORIGINAL-URL:https://tremontschool.org
X-WR-CALDESC:Events for Tremont School
REFRESH-INTERVAL;VALUE=DURATION:PT1H
X-Robots-Tag:noindex
X-PUBLISHED-TTL:PT1H
BEGIN:VTIMEZONE
TZID:America/New_York
BEGIN:DAYLIGHT
TZOFFSETFROM:-0500
TZOFFSETTO:-0400
TZNAME:EDT
DTSTART:20230312T070000
END:DAYLIGHT
BEGIN:STANDARD
TZOFFSETFROM:-0400
TZOFFSETTO:-0500
TZNAME:EST
DTSTART:20231105T060000
END:STANDARD
BEGIN:DAYLIGHT
TZOFFSETFROM:-0500
TZOFFSETTO:-0400
TZNAME:EDT
DTSTART:20240310T070000
END:DAYLIGHT
BEGIN:STANDARD
TZOFFSETFROM:-0400
TZOFFSETTO:-0500
TZNAME:EST
DTSTART:20241103T060000
END:STANDARD
BEGIN:DAYLIGHT
TZOFFSETFROM:-0500
TZOFFSETTO:-0400
TZNAME:EDT
DTSTART:20250309T070000
END:DAYLIGHT
BEGIN:STANDARD
TZOFFSETFROM:-0400
TZOFFSETTO:-0500
TZNAME:EST
DTSTART:20251102T060000
END:STANDARD
END:VTIMEZONE
BEGIN:VEVENT
DTSTART;VALUE=DATE:20240424
DTEND;VALUE=DATE:20240425
DTSTAMP:20260422T104853
CREATED:20240409T180717Z
LAST-MODIFIED:20240424T161713Z
UID:3605-1713916800-1714003199@tremontschool.org
SUMMARY:Independent Study Projects (11th Grade)
DESCRIPTION:
URL:https://tremontschool.org/event/independent-study-projects-11th-grade-3/
END:VEVENT
BEGIN:VEVENT
DTSTART;TZID=America/New_York:20240424T081500
DTEND;TZID=America/New_York:20240424T094500
DTSTAMP:20260422T104853
CREATED:20240409T180716Z
LAST-MODIFIED:20240423T161810Z
UID:3601-1713946500-1713951900@tremontschool.org
SUMMARY:Parent Coffee
DESCRIPTION:
URL:https://tremontschool.org/event/parent-coffee-2/
END:VEVENT
BEGIN:VEVENT
DTSTART;TZID=America/New_York:20240424T150000
DTEND;TZID=America/New_York:20240424T154500
DTSTAMP:20260422T104853
CREATED:20240409T180717Z
LAST-MODIFIED:20240424T161710Z
UID:3603-1713970800-1713973500@tremontschool.org
SUMMARY:After-School Clubs
DESCRIPTION:Please email office@tremontschool.org for details on after-school clubs
URL:https://tremontschool.org/event/after-school-clubs-13/
END:VEVENT
END:VCALENDAR