BEGIN:VCALENDAR
VERSION:2.0
PRODID:-//Tremont School - ECPv6.15.20//NONSGML v1.0//EN
CALSCALE:GREGORIAN
METHOD:PUBLISH
X-WR-CALNAME:Tremont School
X-ORIGINAL-URL:https://tremontschool.org
X-WR-CALDESC:Events for Tremont School
REFRESH-INTERVAL;VALUE=DURATION:PT1H
X-Robots-Tag:noindex
X-PUBLISHED-TTL:PT1H
BEGIN:VTIMEZONE
TZID:America/New_York
BEGIN:DAYLIGHT
TZOFFSETFROM:-0500
TZOFFSETTO:-0400
TZNAME:EDT
DTSTART:20230312T070000
END:DAYLIGHT
BEGIN:STANDARD
TZOFFSETFROM:-0400
TZOFFSETTO:-0500
TZNAME:EST
DTSTART:20231105T060000
END:STANDARD
BEGIN:DAYLIGHT
TZOFFSETFROM:-0500
TZOFFSETTO:-0400
TZNAME:EDT
DTSTART:20240310T070000
END:DAYLIGHT
BEGIN:STANDARD
TZOFFSETFROM:-0400
TZOFFSETTO:-0500
TZNAME:EST
DTSTART:20241103T060000
END:STANDARD
BEGIN:DAYLIGHT
TZOFFSETFROM:-0500
TZOFFSETTO:-0400
TZNAME:EDT
DTSTART:20250309T070000
END:DAYLIGHT
BEGIN:STANDARD
TZOFFSETFROM:-0400
TZOFFSETTO:-0500
TZNAME:EST
DTSTART:20251102T060000
END:STANDARD
END:VTIMEZONE
BEGIN:VEVENT
DTSTART;VALUE=DATE:20241011
DTEND;VALUE=DATE:20241012
DTSTAMP:20260420T134537
CREATED:20240920T174404Z
LAST-MODIFIED:20241011T211233Z
UID:4614-1728604800-1728691199@tremontschool.org
SUMMARY:Noon Dismissal: Yom Kippur + Professional Development Day-
DESCRIPTION:
URL:https://tremontschool.org/event/yom-kippur-professional-development-day-noon-dismissal/
END:VEVENT
BEGIN:VEVENT
DTSTART;VALUE=DATE:20241011
DTEND;VALUE=DATE:20241012
DTSTAMP:20260420T134537
CREATED:20240920T174404Z
LAST-MODIFIED:20240920T174404Z
UID:4615-1728604800-1728691199@tremontschool.org
SUMMARY:Yom Kippur- Professional Development Day- Noon Dismissal
DESCRIPTION:
URL:https://tremontschool.org/event/yom-kippur-professional-development-day-noon-dismissal-2/
END:VEVENT
BEGIN:VEVENT
DTSTART;TZID=America/New_York:20241011T123000
DTEND;TZID=America/New_York:20241011T133000
DTSTAMP:20260420T134537
CREATED:20240925T184057Z
LAST-MODIFIED:20241010T203825Z
UID:4647-1728649800-1728653400@tremontschool.org
SUMMARY:TPAC- Teacher Appreciation Lunch
DESCRIPTION:
URL:https://tremontschool.org/event/tpac-teacher-appreciation-lunch/
END:VEVENT
BEGIN:VEVENT
DTSTART;TZID=America/New_York:20241011T123000
DTEND;TZID=America/New_York:20241011T133000
DTSTAMP:20260420T134537
CREATED:20240925T184103Z
LAST-MODIFIED:20240925T184103Z
UID:4648-1728649800-1728653400@tremontschool.org
SUMMARY:TPAC- Teacher Appreciation Lunch
DESCRIPTION:
URL:https://tremontschool.org/event/tpac-teacher-appreciation-lunch-2/
END:VEVENT
END:VCALENDAR