BEGIN:VCALENDAR
VERSION:2.0
PRODID:-//Tremont School - ECPv6.15.20//NONSGML v1.0//EN
CALSCALE:GREGORIAN
METHOD:PUBLISH
X-WR-CALNAME:Tremont School
X-ORIGINAL-URL:https://tremontschool.org
X-WR-CALDESC:Events for Tremont School
REFRESH-INTERVAL;VALUE=DURATION:PT1H
X-Robots-Tag:noindex
X-PUBLISHED-TTL:PT1H
BEGIN:VTIMEZONE
TZID:America/New_York
BEGIN:DAYLIGHT
TZOFFSETFROM:-0500
TZOFFSETTO:-0400
TZNAME:EDT
DTSTART:20240310T070000
END:DAYLIGHT
BEGIN:STANDARD
TZOFFSETFROM:-0400
TZOFFSETTO:-0500
TZNAME:EST
DTSTART:20241103T060000
END:STANDARD
BEGIN:DAYLIGHT
TZOFFSETFROM:-0500
TZOFFSETTO:-0400
TZNAME:EDT
DTSTART:20250309T070000
END:DAYLIGHT
BEGIN:STANDARD
TZOFFSETFROM:-0400
TZOFFSETTO:-0500
TZNAME:EST
DTSTART:20251102T060000
END:STANDARD
BEGIN:DAYLIGHT
TZOFFSETFROM:-0500
TZOFFSETTO:-0400
TZNAME:EDT
DTSTART:20260308T070000
END:DAYLIGHT
BEGIN:STANDARD
TZOFFSETFROM:-0400
TZOFFSETTO:-0500
TZNAME:EST
DTSTART:20261101T060000
END:STANDARD
END:VTIMEZONE
BEGIN:VEVENT
DTSTART;VALUE=DATE:20250106
DTEND;VALUE=DATE:20250107
DTSTAMP:20260420T090248
CREATED:20240511T171957Z
LAST-MODIFIED:20250106T214534Z
UID:3964-1736121600-1736207999@tremontschool.org
SUMMARY:Back to school- Students return from break
DESCRIPTION:
URL:https://tremontschool.org/event/back-to-school-students-return-from-break/
END:VEVENT
BEGIN:VEVENT
DTSTART;TZID=America/New_York:20250106T190000
DTEND;TZID=America/New_York:20250106T201500
DTSTAMP:20260420T090248
CREATED:20241116T171042Z
LAST-MODIFIED:20250106T214535Z
UID:4820-1736190000-1736194500@tremontschool.org
SUMMARY:Parent Book Talk with Colleen - The Anxious Generation
DESCRIPTION:──────────Krista Demas is inviting you to a scheduled Zoom meeting.Join Zoom Meetinghttps://tremontschool-org.zoom.us/j/98440238296?pwd=OYSpnXaGqe5CcU7IBL34DaAbYoZLOX.1 \nMeeting ID: 984 4023 8296Passcode: 582767 \n— \nOne tap mobile+13092053325\,\,98440238296#\,\,\,\,*582767# US+13126266799\,\,98440238296#\,\,\,\,*582767# US (Chicago) \n— \nDial by your location• +1 309 205 3325 US• +1 312 626 6799 US (Chicago)• +1 646 558 8656 US (New York)• +1 646 931 3860 US• +1 301 715 8592 US (Washington DC)• +1 305 224 1968 US• +1 669 444 9171 US• +1 669 900 9128 US (San Jose)• +1 689 278 1000 US• +1 719 359 4580 US• +1 253 205 0468 US• +1 253 215 8782 US (Tacoma)• +1 346 248 7799 US (Houston)• +1 360 209 5623 US• +1 386 347 5053 US• +1 507 473 4847 US• +1 564 217 2000 US \nMeeting ID: 984 4023 8296Passcode: 582767 \nFind your local number: https://tremontschool-org.zoom.us/u/aea1fCkHoG \n──────────
URL:https://tremontschool.org/event/parent-book-talk-with-colleen-the-anxious-generation/
LOCATION:https://tremontschool-org.zoom.us/j/98440238296?pwd=OYSpnXaGqe5CcU7IBL34DaAbYoZLOX.1
END:VEVENT
BEGIN:VEVENT
DTSTART;TZID=America/New_York:20250106T190000
DTEND;TZID=America/New_York:20250106T201500
DTSTAMP:20260420T090248
CREATED:20241116T171044Z
LAST-MODIFIED:20241116T171044Z
UID:4821-1736190000-1736194500@tremontschool.org
SUMMARY:Parent Book Talk with Colleen - The Anxious Generation
DESCRIPTION:
URL:https://tremontschool.org/event/parent-book-talk-with-colleen-the-anxious-generation-2/
END:VEVENT
END:VCALENDAR