BEGIN:VCALENDAR
VERSION:2.0
PRODID:-//Tremont School - ECPv6.15.20//NONSGML v1.0//EN
CALSCALE:GREGORIAN
METHOD:PUBLISH
X-ORIGINAL-URL:https://tremontschool.org
X-WR-CALDESC:Events for Tremont School
REFRESH-INTERVAL;VALUE=DURATION:PT1H
X-Robots-Tag:noindex
X-PUBLISHED-TTL:PT1H
BEGIN:VTIMEZONE
TZID:America/New_York
BEGIN:DAYLIGHT
TZOFFSETFROM:-0500
TZOFFSETTO:-0400
TZNAME:EDT
DTSTART:20240310T070000
END:DAYLIGHT
BEGIN:STANDARD
TZOFFSETFROM:-0400
TZOFFSETTO:-0500
TZNAME:EST
DTSTART:20241103T060000
END:STANDARD
BEGIN:DAYLIGHT
TZOFFSETFROM:-0500
TZOFFSETTO:-0400
TZNAME:EDT
DTSTART:20250309T070000
END:DAYLIGHT
BEGIN:STANDARD
TZOFFSETFROM:-0400
TZOFFSETTO:-0500
TZNAME:EST
DTSTART:20251102T060000
END:STANDARD
BEGIN:DAYLIGHT
TZOFFSETFROM:-0500
TZOFFSETTO:-0400
TZNAME:EDT
DTSTART:20260308T070000
END:DAYLIGHT
BEGIN:STANDARD
TZOFFSETFROM:-0400
TZOFFSETTO:-0500
TZNAME:EST
DTSTART:20261101T060000
END:STANDARD
END:VTIMEZONE
BEGIN:VEVENT
DTSTART;TZID=America/New_York:20250204T181500
DTEND;TZID=America/New_York:20250204T191500
DTSTAMP:20260420T072346
CREATED:20250118T160217Z
LAST-MODIFIED:20250204T161619Z
UID:5060-1738692900-1738696500@tremontschool.org
SUMMARY:Life After Tremont
DESCRIPTION:Krista Demas is inviting you to a scheduled Zoom meeting.\nJoin Zoom Meeting\nhttps://tremontschool-org.zoom.us/j/91354703896?pwd=iwqt4wAV20WaturN3QOqd4phX7MeSs.1\nMeeting ID: 913 5470 3896\nPasscode: 233878\n—\nOne tap mobile\n+13092053325\,\,91354703896#\,\,\,\,*233878# US\n+13126266799\,\,91354703896#\,\,\,\,*233878# US (Chicago)\n—\nDial by your location\n• +1 309 205 3325 US\n• +1 312 626 6799 US (Chicago)\n• +1 646 558 8656 US (New York)\n• +1 646 931 3860 US\n• +1 301 715 8592 US (Washington DC)\n• +1 305 224 1968 US\n• +1 564 217 2000 US\n• +1 669 444 9171 US\n• +1 669 900 9128 US (San Jose)\n• +1 689 278 1000 US\n• +1 719 359 4580 US\n• +1 253 205 0468 US\n• +1 253 215 8782 US (Tacoma)\n• +1 346 248 7799 US (Houston)\n• +1 360 209 5623 US\n• +1 386 347 5053 US\n• +1 507 473 4847 US\nMeeting ID: 913 5470 3896\nPasscode: 233878\nFind your local number: https://tremontschool-org.zoom.us/u/adESx6PTFm
URL:https://tremontschool.org/event/life-after-tremont/
LOCATION:https://tremontschool-org.zoom.us/j/91354703896?pwd=iwqt4wAV20WaturN3QOqd4phX7MeSs.1
END:VEVENT
END:VCALENDAR