BEGIN:VCALENDAR
VERSION:2.0
PRODID:-//Tremont School - ECPv6.15.20//NONSGML v1.0//EN
CALSCALE:GREGORIAN
METHOD:PUBLISH
X-WR-CALNAME:Tremont School
X-ORIGINAL-URL:https://tremontschool.org
X-WR-CALDESC:Events for Tremont School
REFRESH-INTERVAL;VALUE=DURATION:PT1H
X-Robots-Tag:noindex
X-PUBLISHED-TTL:PT1H
BEGIN:VTIMEZONE
TZID:America/New_York
BEGIN:DAYLIGHT
TZOFFSETFROM:-0500
TZOFFSETTO:-0400
TZNAME:EDT
DTSTART:20250309T070000
END:DAYLIGHT
BEGIN:STANDARD
TZOFFSETFROM:-0400
TZOFFSETTO:-0500
TZNAME:EST
DTSTART:20251102T060000
END:STANDARD
BEGIN:DAYLIGHT
TZOFFSETFROM:-0500
TZOFFSETTO:-0400
TZNAME:EDT
DTSTART:20260308T070000
END:DAYLIGHT
BEGIN:STANDARD
TZOFFSETFROM:-0400
TZOFFSETTO:-0500
TZNAME:EST
DTSTART:20261101T060000
END:STANDARD
BEGIN:DAYLIGHT
TZOFFSETFROM:-0500
TZOFFSETTO:-0400
TZNAME:EDT
DTSTART:20270314T070000
END:DAYLIGHT
BEGIN:STANDARD
TZOFFSETFROM:-0400
TZOFFSETTO:-0500
TZNAME:EST
DTSTART:20271107T060000
END:STANDARD
END:VTIMEZONE
BEGIN:VTIMEZONE
TZID:UTC
BEGIN:STANDARD
TZOFFSETFROM:+0000
TZOFFSETTO:+0000
TZNAME:UTC
DTSTART:20250101T000000
END:STANDARD
END:VTIMEZONE
BEGIN:VEVENT
DTSTART;TZID=America/New_York:20260529T120000
DTEND;TZID=America/New_York:20260529T123000
DTSTAMP:20260419T120051
CREATED:20260318T184632Z
LAST-MODIFIED:20260411T214714Z
UID:6172-1780056000-1780057800@tremontschool.org
SUMMARY:Tremont noon dismissal
DESCRIPTION:
URL:https://tremontschool.org/event/tremont-noon-dismissal/
END:VEVENT
BEGIN:VEVENT
DTSTART;VALUE=DATE:20260529
DTEND;VALUE=DATE:20260530
DTSTAMP:20260419T120051
CREATED:20250729T181828Z
LAST-MODIFIED:20260411T214714Z
UID:5565-1780012800-1780099199@tremontschool.org
SUMMARY:Graduation - Noon dismissal
DESCRIPTION:
URL:https://tremontschool.org/event/graduation-3/
END:VEVENT
BEGIN:VEVENT
DTSTART;VALUE=DATE:20260526
DTEND;VALUE=DATE:20260529
DTSTAMP:20260419T120051
CREATED:20260318T184631Z
LAST-MODIFIED:20260411T214714Z
UID:6170-1779753600-1780012799@tremontschool.org
SUMMARY:Senior Exit Portfolios
DESCRIPTION:
URL:https://tremontschool.org/event/senior-exit-portfolios/
END:VEVENT
BEGIN:VEVENT
DTSTART;VALUE=DATE:20260525
DTEND;VALUE=DATE:20260526
DTSTAMP:20260419T120051
CREATED:20250729T181828Z
LAST-MODIFIED:20260411T214713Z
UID:5564-1779667200-1779753599@tremontschool.org
SUMMARY:Memorial Day - School Closed
DESCRIPTION:
URL:https://tremontschool.org/event/memorial-day-school-closed-2/
END:VEVENT
BEGIN:VEVENT
DTSTART;VALUE=DATE:20260520
DTEND;VALUE=DATE:20260523
DTSTAMP:20260419T120051
CREATED:20250729T181828Z
LAST-MODIFIED:20260411T214713Z
UID:5563-1779235200-1779494399@tremontschool.org
SUMMARY:Senior Final Portfolio Presentations - Families invited to attend by appointment
DESCRIPTION:
URL:https://tremontschool.org/event/senior-capstone-projects-families-attend-by-appointment/
END:VEVENT
BEGIN:VEVENT
DTSTART;VALUE=DATE:20260515
DTEND;VALUE=DATE:20260516
DTSTAMP:20260419T120051
CREATED:20250729T181828Z
LAST-MODIFIED:20260411T214713Z
UID:5562-1778803200-1778889599@tremontschool.org
SUMMARY:Art &  Music Showcase - Families Welcome
DESCRIPTION:
URL:https://tremontschool.org/event/art-music-showcase-families-welcome/
END:VEVENT
BEGIN:VEVENT
DTSTART;TZID=America/New_York:20260507T183000
DTEND;TZID=America/New_York:20260507T213000
DTSTAMP:20260419T120051
CREATED:20260318T184630Z
LAST-MODIFIED:20260411T214713Z
UID:6169-1778178600-1778189400@tremontschool.org
SUMMARY:Tremont Prom - "TROM"
DESCRIPTION:
URL:https://tremontschool.org/event/tremont-prom-trom/
END:VEVENT
BEGIN:VEVENT
DTSTART;VALUE=DATE:20260504
DTEND;VALUE=DATE:20260509
DTSTAMP:20260419T120051
CREATED:20250506T211618Z
LAST-MODIFIED:20260411T214713Z
UID:5418-1777852800-1778284799@tremontschool.org
SUMMARY:Teacher Appreciation Week
DESCRIPTION:
URL:https://tremontschool.org/event/teacher-appreciation-week-2/
END:VEVENT
BEGIN:VEVENT
DTSTART;VALUE=DATE:20260504
DTEND;VALUE=DATE:20260506
DTSTAMP:20260419T120051
CREATED:20260318T184630Z
LAST-MODIFIED:20260411T214713Z
UID:6168-1777852800-1778025599@tremontschool.org
SUMMARY:HS Independent Study Project Presentations
DESCRIPTION:
URL:https://tremontschool.org/event/hs-independent-study-project-presentations-2/
END:VEVENT
BEGIN:VEVENT
DTSTART;VALUE=DATE:20260501
DTEND;VALUE=DATE:20260502
DTSTAMP:20260419T120051
CREATED:20260318T184625Z
LAST-MODIFIED:20260411T214713Z
UID:6163-1777593600-1777679999@tremontschool.org
SUMMARY:HS Independent Study Project Presentations
DESCRIPTION:
URL:https://tremontschool.org/event/hs-independent-study-project-presentations/
END:VEVENT
BEGIN:VEVENT
DTSTART;VALUE=DATE:20260430
DTEND;VALUE=DATE:20260502
DTSTAMP:20260419T120051
CREATED:20260318T184625Z
LAST-MODIFIED:20260411T214713Z
UID:6164-1777507200-1777679999@tremontschool.org
SUMMARY:Camping Adventure
DESCRIPTION:
URL:https://tremontschool.org/event/camping-adventure/
END:VEVENT
BEGIN:VEVENT
DTSTART;VALUE=DATE:20260421
DTEND;VALUE=DATE:20260425
DTSTAMP:20260419T120051
CREATED:20250729T181827Z
LAST-MODIFIED:20260411T214713Z
UID:5561-1776729600-1777075199@tremontschool.org
SUMMARY:April Break - No School
DESCRIPTION:
URL:https://tremontschool.org/event/april-break-2/
END:VEVENT
BEGIN:VEVENT
DTSTART;VALUE=DATE:20260420
DTEND;VALUE=DATE:20260421
DTSTAMP:20260419T120051
CREATED:20250729T181827Z
LAST-MODIFIED:20260411T214713Z
UID:5560-1776643200-1776729599@tremontschool.org
SUMMARY:Patriot's Day - School Closed
DESCRIPTION:
URL:https://tremontschool.org/event/patriots-day-school-closed/
END:VEVENT
BEGIN:VEVENT
DTSTART;VALUE=DATE:20260418
DTEND;VALUE=DATE:20260419
DTSTAMP:20260419T120051
CREATED:20251029T172015Z
LAST-MODIFIED:20260411T214713Z
UID:5988-1776470400-1776556799@tremontschool.org
SUMMARY:AISNE HS Diversity Conference
DESCRIPTION:
URL:https://tremontschool.org/event/aisne-hs-diversity-conference/
END:VEVENT
BEGIN:VEVENT
DTSTART;TZID=America/New_York:20260415T080000
DTEND;TZID=America/New_York:20260415T100000
DTSTAMP:20260419T120051
CREATED:20260324T211045Z
LAST-MODIFIED:20260411T214712Z
UID:6199-1776240000-1776247200@tremontschool.org
SUMMARY:Parent coffee
DESCRIPTION:
URL:https://tremontschool.org/event/parent-coffee-16/
END:VEVENT
BEGIN:VEVENT
DTSTART;VALUE=DATE:20260414
DTEND;VALUE=DATE:20260417
DTSTAMP:20260419T120051
CREATED:20250729T181827Z
LAST-MODIFIED:20260411T214712Z
UID:5559-1776124800-1776383999@tremontschool.org
SUMMARY:Middle School Portfolio Presentations - Families Attend by Appointment
DESCRIPTION:
URL:https://tremontschool.org/event/middle-school-portfolio-presentations-families-attend-by-appointment/
END:VEVENT
BEGIN:VEVENT
DTSTART;TZID=America/New_York:20260410T190000
DTEND;TZID=America/New_York:20260410T220000
DTSTAMP:20260419T120051
CREATED:20251204T224357Z
LAST-MODIFIED:20260410T214557Z
UID:6044-1775847600-1775858400@tremontschool.org
SUMMARY:Trivia Night & Auction
DESCRIPTION:Buy your tickets here: https://www.zeffy.com/en-US/ticketing/2026-tremont-trivia-night
URL:https://tremontschool.org/event/trivia-night-auction/
LOCATION:Trinity Church\, 81 Elm St\, Concord\, MA\, United States
END:VEVENT
BEGIN:VEVENT
DTSTART;VALUE=DATE:20260406
DTEND;VALUE=DATE:20260407
DTSTAMP:20260419T120051
CREATED:20240409T154559Z
LAST-MODIFIED:20240409T154721Z
UID:3802-1775433600-1775519999@tremontschool.org
SUMMARY:Easter Monday
DESCRIPTION:Observance\nTo hide observances\, go to Google Calendar Settings > Holidays in United States
URL:https://tremontschool.org/event/easter-monday-2/
END:VEVENT
BEGIN:VEVENT
DTSTART;VALUE=DATE:20260405
DTEND;VALUE=DATE:20260406
DTSTAMP:20260419T120051
CREATED:20240409T154558Z
LAST-MODIFIED:20240409T154720Z
UID:3800-1775347200-1775433599@tremontschool.org
SUMMARY:Easter Sunday
DESCRIPTION:Observance\nTo hide observances\, go to Google Calendar Settings > Holidays in United States
URL:https://tremontschool.org/event/easter-sunday-3/
END:VEVENT
BEGIN:VEVENT
DTSTART;VALUE=DATE:20260403
DTEND;VALUE=DATE:20260404
DTSTAMP:20260419T120051
CREATED:20250729T181827Z
LAST-MODIFIED:20260403T213159Z
UID:5558-1775174400-1775260799@tremontschool.org
SUMMARY:Good Friday - School Closed
DESCRIPTION:
URL:https://tremontschool.org/event/good-friday-school-closed-2/
END:VEVENT
BEGIN:VEVENT
DTSTART;VALUE=DATE:20260402
DTEND;VALUE=DATE:20260403
DTSTAMP:20260419T120051
CREATED:20250729T181827Z
LAST-MODIFIED:20260402T213130Z
UID:5557-1775088000-1775174399@tremontschool.org
SUMMARY:Faculty Work Day - No School
DESCRIPTION:
URL:https://tremontschool.org/event/teacher-work-day-school-closed-2/
END:VEVENT
BEGIN:VEVENT
DTSTART;TZID=America/New_York:20260325T183000
DTEND;TZID=America/New_York:20260325T203000
DTSTAMP:20260419T120051
CREATED:20260321T210828Z
LAST-MODIFIED:20260325T211624Z
UID:6193-1774463400-1774470600@tremontschool.org
SUMMARY:Parent Education w/Dr.Karin Maria Hodges\, Psy.D.
DESCRIPTION:Krista Demas is inviting you to a scheduled Zoom meeting.\nJoin Zoom Meeting\nhttps://tremontschool-org.zoom.us/j/94762675167?pwd=ZVkB8o6ay5mKr92rVx0o5HMGU0slyv.1\nMeeting ID: 947 6267 5167\nPasscode: 968741\n—\nOne tap mobile\n+13126266799\,\,94762675167#\,\,\,\,*968741# US (Chicago)\n+16465588656\,\,94762675167#\,\,\,\,*968741# US (New York)\nJoin instructions\nhttps://tremontschool-org.zoom.us/meetings/94762675167/invitations?signature=mjl71T2WvKB1lftQR4gcqQOl8r2QEnzGF4xCpKgGwy8
URL:https://tremontschool.org/event/parent-education-w-dr-karin-maria-hodges-psy-d/
LOCATION:https://tremontschool-org.zoom.us/j/94762675167?pwd=ZVkB8o6ay5mKr92rVx0o5HMGU0slyv.1
END:VEVENT
BEGIN:VEVENT
DTSTART;TZID=America/New_York:20260325T183000
DTEND;TZID=America/New_York:20260325T193000
DTSTAMP:20260419T120051
CREATED:20260320T205530Z
LAST-MODIFIED:20260320T205532Z
UID:6189-1774463400-1774467000@tremontschool.org
SUMMARY:Not too Stressed to Grow in Stress: Karin Hodges\, Psy.D. - Parent Ed -
DESCRIPTION:
URL:https://tremontschool.org/event/not-too-stressed-to-grow-in-stress-karin-hodges-psy-d-parent-ed/
END:VEVENT
BEGIN:VEVENT
DTSTART;VALUE=DATE:20260318
DTEND;VALUE=DATE:20260319
DTSTAMP:20260419T120051
CREATED:20260318T184623Z
LAST-MODIFIED:20260318T205330Z
UID:6162-1773792000-1773878399@tremontschool.org
SUMMARY:Museum of Science Field Trip (MS)
DESCRIPTION:
URL:https://tremontschool.org/event/museum-of-science-field-trip-ms/
END:VEVENT
BEGIN:VEVENT
DTSTART;VALUE=DATE:20260317
DTEND;VALUE=DATE:20260318
DTSTAMP:20260419T120051
CREATED:20240409T154557Z
LAST-MODIFIED:20240409T154719Z
UID:3798-1773705600-1773791999@tremontschool.org
SUMMARY:St. Patrick's Day
DESCRIPTION:Observance\nTo hide observances\, go to Google Calendar Settings > Holidays in United States
URL:https://tremontschool.org/event/st-patricks-day-2/
END:VEVENT
BEGIN:VEVENT
DTSTART;TZID=America/New_York:20260313T113000
DTEND;TZID=America/New_York:20260313T130000
DTSTAMP:20260419T120051
CREATED:20250819T190134Z
LAST-MODIFIED:20251211T231029Z
UID:5666-1773401400-1773406800@tremontschool.org
SUMMARY:Teacher Appreciation Lunch
DESCRIPTION:
URL:https://tremontschool.org/event/teacher-appreciation-lunch-2/
END:VEVENT
BEGIN:VEVENT
DTSTART;TZID=America/New_York:20260313T080000
DTEND;TZID=America/New_York:20260313T100000
DTSTAMP:20260419T120051
CREATED:20251003T174508Z
LAST-MODIFIED:20251211T231029Z
UID:5906-1773388800-1773396000@tremontschool.org
SUMMARY:Parent Coffee
DESCRIPTION:
URL:https://tremontschool.org/event/parent-coffee-14/
END:VEVENT
BEGIN:VEVENT
DTSTART;VALUE=DATE:20260313
DTEND;VALUE=DATE:20260314
DTSTAMP:20260419T120051
CREATED:20250729T181827Z
LAST-MODIFIED:20251211T231028Z
UID:5555-1773360000-1773446399@tremontschool.org
SUMMARY:Career Day Part 2 - Noon Dismissal & Professional Development
DESCRIPTION:
URL:https://tremontschool.org/event/career-day-part-2-noon-dismissal-professional-development/
END:VEVENT
BEGIN:VEVENT
DTSTART;VALUE=DATE:20260312
DTEND;VALUE=DATE:20260313
DTSTAMP:20260419T120051
CREATED:20250729T181827Z
LAST-MODIFIED:20251211T231028Z
UID:5556-1773273600-1773359999@tremontschool.org
SUMMARY:Career Day Part 1
DESCRIPTION:
URL:https://tremontschool.org/event/career-day-part-1/
END:VEVENT
BEGIN:VEVENT
DTSTART;VALUE=DATE:20260308
DTEND;VALUE=DATE:20260309
DTSTAMP:20260419T120051
CREATED:20240409T154557Z
LAST-MODIFIED:20240409T154719Z
UID:3796-1772928000-1773014399@tremontschool.org
SUMMARY:Daylight Saving Time starts
DESCRIPTION:Observance\nTo hide observances\, go to Google Calendar Settings > Holidays in United States
URL:https://tremontschool.org/event/daylight-saving-time-starts-2/
END:VEVENT
END:VCALENDAR