BEGIN:VCALENDAR
VERSION:2.0
PRODID:-//Tremont School - ECPv6.15.20//NONSGML v1.0//EN
CALSCALE:GREGORIAN
METHOD:PUBLISH
X-WR-CALNAME:Tremont School
X-ORIGINAL-URL:https://tremontschool.org
X-WR-CALDESC:Events for Tremont School
REFRESH-INTERVAL;VALUE=DURATION:PT1H
X-Robots-Tag:noindex
X-PUBLISHED-TTL:PT1H
BEGIN:VTIMEZONE
TZID:America/New_York
BEGIN:DAYLIGHT
TZOFFSETFROM:-0500
TZOFFSETTO:-0400
TZNAME:EDT
DTSTART:20240310T070000
END:DAYLIGHT
BEGIN:STANDARD
TZOFFSETFROM:-0400
TZOFFSETTO:-0500
TZNAME:EST
DTSTART:20241103T060000
END:STANDARD
BEGIN:DAYLIGHT
TZOFFSETFROM:-0500
TZOFFSETTO:-0400
TZNAME:EDT
DTSTART:20250309T070000
END:DAYLIGHT
BEGIN:STANDARD
TZOFFSETFROM:-0400
TZOFFSETTO:-0500
TZNAME:EST
DTSTART:20251102T060000
END:STANDARD
BEGIN:DAYLIGHT
TZOFFSETFROM:-0500
TZOFFSETTO:-0400
TZNAME:EDT
DTSTART:20260308T070000
END:DAYLIGHT
BEGIN:STANDARD
TZOFFSETFROM:-0400
TZOFFSETTO:-0500
TZNAME:EST
DTSTART:20261101T060000
END:STANDARD
END:VTIMEZONE
BEGIN:VTIMEZONE
TZID:UTC
BEGIN:STANDARD
TZOFFSETFROM:+0000
TZOFFSETTO:+0000
TZNAME:UTC
DTSTART:20240101T000000
END:STANDARD
END:VTIMEZONE
BEGIN:VEVENT
DTSTART;VALUE=DATE:20250331
DTEND;VALUE=DATE:20250401
DTSTAMP:20260420T032209
CREATED:20240913T164051Z
LAST-MODIFIED:20250331T184640Z
UID:4385-1743379200-1743465599@tremontschool.org
SUMMARY:Teacher Work Day- No School
DESCRIPTION:
URL:https://tremontschool.org/event/teacher-work-day-no-school-5/
END:VEVENT
BEGIN:VEVENT
DTSTART;TZID=America/New_York:20250328T120000
DTEND;TZID=America/New_York:20250328T130000
DTSTAMP:20260420T032209
CREATED:20240925T184144Z
LAST-MODIFIED:20250327T183128Z
UID:4652-1743163200-1743166800@tremontschool.org
SUMMARY:TPAC- Teacher Appreciation Lunch
DESCRIPTION:
URL:https://tremontschool.org/event/tpac-teacher-appreciation-lunch-4/
END:VEVENT
BEGIN:VEVENT
DTSTART;VALUE=DATE:20250328
DTEND;VALUE=DATE:20250329
DTSTAMP:20260420T032209
CREATED:20240920T174442Z
LAST-MODIFIED:20240920T174442Z
UID:4619-1743120000-1743206399@tremontschool.org
SUMMARY:Teacher Professional Development- Noon Dismissal
DESCRIPTION:
URL:https://tremontschool.org/event/teacher-professional-development-noon-dismissal-2/
END:VEVENT
BEGIN:VEVENT
DTSTART;VALUE=DATE:20250327
DTEND;VALUE=DATE:20250329
DTSTAMP:20260420T032209
CREATED:20250207T161656Z
LAST-MODIFIED:20250328T183146Z
UID:5092-1743033600-1743206399@tremontschool.org
SUMMARY:Camping Adventure with Tori
DESCRIPTION:
URL:https://tremontschool.org/event/camping-adventure-with-tori/
END:VEVENT
BEGIN:VEVENT
DTSTART;VALUE=DATE:20250317
DTEND;VALUE=DATE:20250318
DTSTAMP:20260420T032209
CREATED:20240409T154534Z
LAST-MODIFIED:20240409T154617Z
UID:3752-1742169600-1742255999@tremontschool.org
SUMMARY:St. Patrick's Day
DESCRIPTION:Observance\nTo hide observances\, go to Google Calendar Settings > Holidays in United States
URL:https://tremontschool.org/event/st-patricks-day/
END:VEVENT
BEGIN:VEVENT
DTSTART;TZID=America/New_York:20250315T100000
DTEND;TZID=America/New_York:20250315T130000
DTSTAMP:20260420T032209
CREATED:20241220T202939Z
LAST-MODIFIED:20241220T202939Z
UID:4997-1742032800-1742043600@tremontschool.org
SUMMARY:Saturday Series- Middle School Science Museum
DESCRIPTION:
URL:https://tremontschool.org/event/saturday-series-middle-school-science-museum-2/
END:VEVENT
BEGIN:VEVENT
DTSTART;TZID=America/New_York:20250314T081500
DTEND;TZID=America/New_York:20250314T103000
DTSTAMP:20260420T032209
CREATED:20241202T181651Z
LAST-MODIFIED:20250313T181633Z
UID:4854-1741940100-1741948200@tremontschool.org
SUMMARY:Parent Coffee
DESCRIPTION:
URL:https://tremontschool.org/event/parent-coffee-8/
END:VEVENT
BEGIN:VEVENT
DTSTART;VALUE=DATE:20250313
DTEND;VALUE=DATE:20250315
DTSTAMP:20260420T032209
CREATED:20241203T183237Z
LAST-MODIFIED:20241203T183237Z
UID:4859-1741824000-1741996799@tremontschool.org
SUMMARY:Career Day
DESCRIPTION:
URL:https://tremontschool.org/event/career-day-3/
END:VEVENT
BEGIN:VEVENT
DTSTART;VALUE=DATE:20250309
DTEND;VALUE=DATE:20250310
DTSTAMP:20260420T032209
CREATED:20240409T154532Z
LAST-MODIFIED:20240409T154616Z
UID:3751-1741478400-1741564799@tremontschool.org
SUMMARY:Daylight Saving Time starts
DESCRIPTION:Observance\nTo hide observances\, go to Google Calendar Settings > Holidays in United States
URL:https://tremontschool.org/event/daylight-saving-time-starts/
END:VEVENT
BEGIN:VEVENT
DTSTART;TZID=America/New_York:20250308T100000
DTEND;TZID=America/New_York:20250308T130000
DTSTAMP:20260420T032209
CREATED:20241220T202933Z
LAST-MODIFIED:20241220T202933Z
UID:4996-1741428000-1741438800@tremontschool.org
SUMMARY:Saturday Series- High School Students-Isabella Gardner Museum
DESCRIPTION:
URL:https://tremontschool.org/event/saturday-series-high-school-students-isabella-gardner-museum-2/
END:VEVENT
BEGIN:VEVENT
DTSTART;TZID=America/New_York:20250307T180000
DTEND;TZID=America/New_York:20250307T210000
DTSTAMP:20260420T032209
CREATED:20240925T184136Z
LAST-MODIFIED:20250307T180146Z
UID:4651-1741370400-1741381200@tremontschool.org
SUMMARY:TPAC- Bake off
DESCRIPTION:
URL:https://tremontschool.org/event/tpac-bake-off/
END:VEVENT
BEGIN:VEVENT
DTSTART;VALUE=DATE:20250301
DTEND;VALUE=DATE:20250302
DTSTAMP:20260420T032209
CREATED:20240409T154531Z
LAST-MODIFIED:20240409T154613Z
UID:3750-1740787200-1740873599@tremontschool.org
SUMMARY:First Day of Women's History Month
DESCRIPTION:Observance\nTo hide observances\, go to Google Calendar Settings > Holidays in United States
URL:https://tremontschool.org/event/first-day-of-womens-history-month-2/
END:VEVENT
BEGIN:VEVENT
DTSTART;VALUE=DATE:20250226
DTEND;VALUE=DATE:20250227
DTSTAMP:20260420T032209
CREATED:20250225T173117Z
LAST-MODIFIED:20250225T173117Z
UID:5122-1740528000-1740614399@tremontschool.org
SUMMARY:Secret Yeti
DESCRIPTION:
URL:https://tremontschool.org/event/secret-yeti-2/
END:VEVENT
BEGIN:VEVENT
DTSTART;VALUE=DATE:20250217
DTEND;VALUE=DATE:20250222
DTSTAMP:20260420T032209
CREATED:20240511T171958Z
LAST-MODIFIED:20250221T171651Z
UID:3965-1739750400-1740182399@tremontschool.org
SUMMARY:February Break
DESCRIPTION:
URL:https://tremontschool.org/event/february-break/
END:VEVENT
BEGIN:VEVENT
DTSTART;VALUE=DATE:20250217
DTEND;VALUE=DATE:20250218
DTSTAMP:20260420T032209
CREATED:20240409T154531Z
LAST-MODIFIED:20240409T154601Z
UID:3749-1739750400-1739836799@tremontschool.org
SUMMARY:Presidents' Day
DESCRIPTION:Public holiday
URL:https://tremontschool.org/event/presidents-day/
END:VEVENT
BEGIN:VEVENT
DTSTART;VALUE=DATE:20250214
DTEND;VALUE=DATE:20250215
DTSTAMP:20260420T032209
CREATED:20240409T154530Z
LAST-MODIFIED:20240409T154600Z
UID:3748-1739491200-1739577599@tremontschool.org
SUMMARY:Valentine's Day
DESCRIPTION:Observance\nTo hide observances\, go to Google Calendar Settings > Holidays in United States
URL:https://tremontschool.org/event/valentines-day-2/
END:VEVENT
BEGIN:VEVENT
DTSTART;TZID=America/New_York:20250212T141500
DTEND;TZID=America/New_York:20250212T151500
DTSTAMP:20260420T032209
CREATED:20241125T175305Z
LAST-MODIFIED:20250212T163453Z
UID:4844-1739369700-1739373300@tremontschool.org
SUMMARY:Parent Coffee
DESCRIPTION:
URL:https://tremontschool.org/event/parent-coffee-7/
END:VEVENT
BEGIN:VEVENT
DTSTART;TZID=America/New_York:20250208T100000
DTEND;TZID=America/New_York:20250208T130000
DTSTAMP:20260420T032209
CREATED:20241220T202911Z
LAST-MODIFIED:20250208T161652Z
UID:4991-1739008800-1739019600@tremontschool.org
SUMMARY:Saturday Series-Boston University/ Northeastern University College Visits
DESCRIPTION:
URL:https://tremontschool.org/event/saturday-series-boston-university-northeastern-university-college-visits/
END:VEVENT
BEGIN:VEVENT
DTSTART;TZID=America/New_York:20250204T181500
DTEND;TZID=America/New_York:20250204T191500
DTSTAMP:20260420T032209
CREATED:20250118T160217Z
LAST-MODIFIED:20250204T161619Z
UID:5060-1738692900-1738696500@tremontschool.org
SUMMARY:Life After Tremont
DESCRIPTION:Krista Demas is inviting you to a scheduled Zoom meeting.\nJoin Zoom Meeting\nhttps://tremontschool-org.zoom.us/j/91354703896?pwd=iwqt4wAV20WaturN3QOqd4phX7MeSs.1\nMeeting ID: 913 5470 3896\nPasscode: 233878\n—\nOne tap mobile\n+13092053325\,\,91354703896#\,\,\,\,*233878# US\n+13126266799\,\,91354703896#\,\,\,\,*233878# US (Chicago)\n—\nDial by your location\n• +1 309 205 3325 US\n• +1 312 626 6799 US (Chicago)\n• +1 646 558 8656 US (New York)\n• +1 646 931 3860 US\n• +1 301 715 8592 US (Washington DC)\n• +1 305 224 1968 US\n• +1 564 217 2000 US\n• +1 669 444 9171 US\n• +1 669 900 9128 US (San Jose)\n• +1 689 278 1000 US\n• +1 719 359 4580 US\n• +1 253 205 0468 US\n• +1 253 215 8782 US (Tacoma)\n• +1 346 248 7799 US (Houston)\n• +1 360 209 5623 US\n• +1 386 347 5053 US\n• +1 507 473 4847 US\nMeeting ID: 913 5470 3896\nPasscode: 233878\nFind your local number: https://tremontschool-org.zoom.us/u/adESx6PTFm
URL:https://tremontschool.org/event/life-after-tremont/
LOCATION:https://tremontschool-org.zoom.us/j/91354703896?pwd=iwqt4wAV20WaturN3QOqd4phX7MeSs.1
END:VEVENT
BEGIN:VEVENT
DTSTART;VALUE=DATE:20250203
DTEND;VALUE=DATE:20250204
DTSTAMP:20260420T032209
CREATED:20240514T174826Z
LAST-MODIFIED:20250203T161658Z
UID:4007-1738540800-1738627199@tremontschool.org
SUMMARY:Parent Conferences
DESCRIPTION:
URL:https://tremontschool.org/event/parent-conferences/
END:VEVENT
BEGIN:VEVENT
DTSTART;TZID=America/New_York:20250201T110000
DTEND;TZID=America/New_York:20250201T130000
DTSTAMP:20260420T032209
CREATED:20241220T202908Z
LAST-MODIFIED:20250201T161700Z
UID:4990-1738407600-1738414800@tremontschool.org
SUMMARY:Saturday Series- Middle School Community Brunch
DESCRIPTION:
URL:https://tremontschool.org/event/saturday-series-middle-school-community-brunch/
END:VEVENT
BEGIN:VEVENT
DTSTART;VALUE=DATE:20250201
DTEND;VALUE=DATE:20250202
DTSTAMP:20260420T032209
CREATED:20240409T154529Z
LAST-MODIFIED:20240409T154559Z
UID:3747-1738368000-1738454399@tremontschool.org
SUMMARY:First Day of Black History Month
DESCRIPTION:Observance\nTo hide observances\, go to Google Calendar Settings > Holidays in United States
URL:https://tremontschool.org/event/first-day-of-black-history-month-2/
END:VEVENT
BEGIN:VEVENT
DTSTART;TZID=America/New_York:20250131T123000
DTEND;TZID=America/New_York:20250131T140000
DTSTAMP:20260420T032209
CREATED:20240925T184126Z
LAST-MODIFIED:20250131T161658Z
UID:4650-1738326600-1738332000@tremontschool.org
SUMMARY:TPAC- Teacher Appreciation Lunch
DESCRIPTION:
URL:https://tremontschool.org/event/tpac-teacher-appreciation-lunch-3/
END:VEVENT
BEGIN:VEVENT
DTSTART;TZID=America/New_York:20250131T120000
DTEND;TZID=America/New_York:20250131T120000
DTSTAMP:20260420T032209
CREATED:20240925T184124Z
LAST-MODIFIED:20250131T161658Z
UID:4649-1738324800-1738324800@tremontschool.org
SUMMARY:Noon Dismissal- Professional Development
DESCRIPTION:
URL:https://tremontschool.org/event/noon-dismissal-professional-development/
END:VEVENT
BEGIN:VEVENT
DTSTART;VALUE=DATE:20250121
DTEND;VALUE=DATE:20250122
DTSTAMP:20260420T032209
CREATED:20241205T185949Z
LAST-MODIFIED:20241205T185949Z
UID:4873-1737417600-1737503999@tremontschool.org
SUMMARY:No School - Teacher workday
DESCRIPTION:
URL:https://tremontschool.org/event/no-school-teacher-workday-2/
END:VEVENT
BEGIN:VEVENT
DTSTART;VALUE=DATE:20250120
DTEND;VALUE=DATE:20250121
DTSTAMP:20260420T032209
CREATED:20241205T185948Z
LAST-MODIFIED:20241205T185948Z
UID:4872-1737331200-1737417599@tremontschool.org
SUMMARY:No school - MLK Day
DESCRIPTION:
URL:https://tremontschool.org/event/no-school-mlk-day-2/
END:VEVENT
BEGIN:VEVENT
DTSTART;VALUE=DATE:20250120
DTEND;VALUE=DATE:20250121
DTSTAMP:20260420T032209
CREATED:20241205T185938Z
LAST-MODIFIED:20250120T160322Z
UID:4870-1737331200-1737417599@tremontschool.org
SUMMARY:No school - MLK Day
DESCRIPTION:
URL:https://tremontschool.org/event/no-school-mlk-day/
END:VEVENT
BEGIN:VEVENT
DTSTART;VALUE=DATE:20250120
DTEND;VALUE=DATE:20250121
DTSTAMP:20260420T032209
CREATED:20240409T154529Z
LAST-MODIFIED:20240409T154558Z
UID:3746-1737331200-1737417599@tremontschool.org
SUMMARY:Inauguration Day (regional holiday)
DESCRIPTION:Public holiday in District of Columbia\, Maryland\, Virginia
URL:https://tremontschool.org/event/inauguration-day-regional-holiday/
END:VEVENT
BEGIN:VEVENT
DTSTART;VALUE=DATE:20250120
DTEND;VALUE=DATE:20250121
DTSTAMP:20260420T032209
CREATED:20240409T154528Z
LAST-MODIFIED:20240409T154558Z
UID:3745-1737331200-1737417599@tremontschool.org
SUMMARY:Martin Luther King Jr. Day
DESCRIPTION:Public holiday
URL:https://tremontschool.org/event/martin-luther-king-jr-day/
END:VEVENT
BEGIN:VEVENT
DTSTART;VALUE=DATE:20250117
DTEND;VALUE=DATE:20250118
DTSTAMP:20260420T032209
CREATED:20240514T174825Z
LAST-MODIFIED:20250117T154724Z
UID:4006-1737072000-1737158399@tremontschool.org
SUMMARY:Semester 1 Ends
DESCRIPTION:
URL:https://tremontschool.org/event/semester-1-ends/
END:VEVENT
END:VCALENDAR