BEGIN:VCALENDAR
VERSION:2.0
PRODID:-//Tremont School - ECPv6.15.20//NONSGML v1.0//EN
CALSCALE:GREGORIAN
METHOD:PUBLISH
X-WR-CALNAME:Tremont School
X-ORIGINAL-URL:https://tremontschool.org
X-WR-CALDESC:Events for Tremont School
REFRESH-INTERVAL;VALUE=DURATION:PT1H
X-Robots-Tag:noindex
X-PUBLISHED-TTL:PT1H
BEGIN:VTIMEZONE
TZID:UTC
BEGIN:STANDARD
TZOFFSETFROM:+0000
TZOFFSETTO:+0000
TZNAME:UTC
DTSTART:20230101T000000
END:STANDARD
END:VTIMEZONE
BEGIN:VTIMEZONE
TZID:America/New_York
BEGIN:DAYLIGHT
TZOFFSETFROM:-0500
TZOFFSETTO:-0400
TZNAME:EDT
DTSTART:20230312T070000
END:DAYLIGHT
BEGIN:STANDARD
TZOFFSETFROM:-0400
TZOFFSETTO:-0500
TZNAME:EST
DTSTART:20231105T060000
END:STANDARD
BEGIN:DAYLIGHT
TZOFFSETFROM:-0500
TZOFFSETTO:-0400
TZNAME:EDT
DTSTART:20240310T070000
END:DAYLIGHT
BEGIN:STANDARD
TZOFFSETFROM:-0400
TZOFFSETTO:-0500
TZNAME:EST
DTSTART:20241103T060000
END:STANDARD
BEGIN:DAYLIGHT
TZOFFSETFROM:-0500
TZOFFSETTO:-0400
TZNAME:EDT
DTSTART:20250309T070000
END:DAYLIGHT
BEGIN:STANDARD
TZOFFSETFROM:-0400
TZOFFSETTO:-0500
TZNAME:EST
DTSTART:20251102T060000
END:STANDARD
BEGIN:DAYLIGHT
TZOFFSETFROM:-0500
TZOFFSETTO:-0400
TZNAME:EDT
DTSTART:20260308T070000
END:DAYLIGHT
BEGIN:STANDARD
TZOFFSETFROM:-0400
TZOFFSETTO:-0500
TZNAME:EST
DTSTART:20261101T060000
END:STANDARD
END:VTIMEZONE
BEGIN:VEVENT
DTSTART;VALUE=DATE:20241225
DTEND;VALUE=DATE:20241226
DTSTAMP:20260420T113823
CREATED:20240409T154526Z
LAST-MODIFIED:20240409T154556Z
UID:3742-1735084800-1735171199@tremontschool.org
SUMMARY:Christmas Day
DESCRIPTION:Public holiday
URL:https://tremontschool.org/event/christmas-day/
END:VEVENT
BEGIN:VEVENT
DTSTART;VALUE=DATE:20241224
DTEND;VALUE=DATE:20241225
DTSTAMP:20260420T113823
CREATED:20240409T154526Z
LAST-MODIFIED:20240409T154555Z
UID:3741-1734998400-1735084799@tremontschool.org
SUMMARY:Christmas Eve
DESCRIPTION:Observance\nTo hide observances\, go to Google Calendar Settings > Holidays in United States
URL:https://tremontschool.org/event/christmas-eve/
END:VEVENT
BEGIN:VEVENT
DTSTART;VALUE=DATE:20241223
DTEND;VALUE=DATE:20250104
DTSTAMP:20260420T113823
CREATED:20240511T171956Z
LAST-MODIFIED:20250103T212843Z
UID:3962-1734912000-1735948799@tremontschool.org
SUMMARY:December Break
DESCRIPTION:
URL:https://tremontschool.org/event/december-break/
END:VEVENT
BEGIN:VEVENT
DTSTART;TZID=America/New_York:20241219T093000
DTEND;TZID=America/New_York:20241219T113000
DTSTAMP:20260420T113823
CREATED:20241121T173840Z
LAST-MODIFIED:20241121T173840Z
UID:4833-1734600600-1734607800@tremontschool.org
SUMMARY:MS- Celebration of learning
DESCRIPTION:
URL:https://tremontschool.org/event/ms-celebration-of-learning-2/
END:VEVENT
BEGIN:VEVENT
DTSTART;TZID=America/New_York:20241219T093000
DTEND;TZID=America/New_York:20241219T113000
DTSTAMP:20260420T113823
CREATED:20241121T173838Z
LAST-MODIFIED:20241218T203127Z
UID:4832-1734600600-1734607800@tremontschool.org
SUMMARY:MS- Celebration of learning
DESCRIPTION:
URL:https://tremontschool.org/event/ms-celebration-of-learning/
END:VEVENT
BEGIN:VEVENT
DTSTART;TZID=America/New_York:20241219T081500
DTEND;TZID=America/New_York:20241219T100000
DTSTAMP:20260420T113823
CREATED:20241122T175216Z
LAST-MODIFIED:20241122T175216Z
UID:4837-1734596100-1734602400@tremontschool.org
SUMMARY:Parent Coffee
DESCRIPTION:
URL:https://tremontschool.org/event/parent-coffee-4/
END:VEVENT
BEGIN:VEVENT
DTSTART;TZID=America/New_York:20241219T081500
DTEND;TZID=America/New_York:20241219T100000
DTSTAMP:20260420T113823
CREATED:20241122T175214Z
LAST-MODIFIED:20241218T203122Z
UID:4836-1734596100-1734602400@tremontschool.org
SUMMARY:Parent Coffee
DESCRIPTION:
URL:https://tremontschool.org/event/parent-coffee/
END:VEVENT
BEGIN:VEVENT
DTSTART;TZID=America/New_York:20241213T120000
DTEND;TZID=America/New_York:20241213T150000
DTSTAMP:20260420T113823
CREATED:20240613T164112Z
LAST-MODIFIED:20241213T194503Z
UID:4050-1734091200-1734102000@tremontschool.org
SUMMARY:Music Showcase
DESCRIPTION:
URL:https://tremontschool.org/event/music-showcase/
END:VEVENT
BEGIN:VEVENT
DTSTART;VALUE=DATE:20241129
DTEND;VALUE=DATE:20241130
DTSTAMP:20260420T113823
CREATED:20240409T154525Z
LAST-MODIFIED:20240409T154552Z
UID:3740-1732838400-1732924799@tremontschool.org
SUMMARY:Native American Heritage Day
DESCRIPTION:Observance\nTo hide observances\, go to Google Calendar Settings > Holidays in United States
URL:https://tremontschool.org/event/native-american-heritage-day/
END:VEVENT
BEGIN:VEVENT
DTSTART;VALUE=DATE:20241128
DTEND;VALUE=DATE:20241129
DTSTAMP:20260420T113823
CREATED:20240409T154525Z
LAST-MODIFIED:20240409T154540Z
UID:3739-1732752000-1732838399@tremontschool.org
SUMMARY:Thanksgiving Day
DESCRIPTION:Public holiday
URL:https://tremontschool.org/event/thanksgiving-day/
END:VEVENT
BEGIN:VEVENT
DTSTART;VALUE=DATE:20241127
DTEND;VALUE=DATE:20241130
DTSTAMP:20260420T113823
CREATED:20240511T171955Z
LAST-MODIFIED:20241129T181132Z
UID:3961-1732665600-1732924799@tremontschool.org
SUMMARY:Thanksgiving Break
DESCRIPTION:
URL:https://tremontschool.org/event/thanksgiving-break/
END:VEVENT
BEGIN:VEVENT
DTSTART;VALUE=DATE:20241112
DTEND;VALUE=DATE:20241113
DTSTAMP:20260420T113823
CREATED:20240511T171954Z
LAST-MODIFIED:20241112T164204Z
UID:3960-1731369600-1731455999@tremontschool.org
SUMMARY:Teacher Work Day- No School
DESCRIPTION:
URL:https://tremontschool.org/event/teacher-work-day-no-school-2/
END:VEVENT
BEGIN:VEVENT
DTSTART;VALUE=DATE:20241111
DTEND;VALUE=DATE:20241112
DTSTAMP:20260420T113823
CREATED:20240913T164038Z
LAST-MODIFIED:20241111T164032Z
UID:4383-1731283200-1731369599@tremontschool.org
SUMMARY:Veterans Day- No School
DESCRIPTION:
URL:https://tremontschool.org/event/veterans-day-no-school/
END:VEVENT
BEGIN:VEVENT
DTSTART;VALUE=DATE:20241111
DTEND;VALUE=DATE:20241112
DTSTAMP:20260420T113823
CREATED:20240511T171953Z
LAST-MODIFIED:20240912T162738Z
UID:3959-1731283200-1731369599@tremontschool.org
SUMMARY:Indigenous People's Day- No School
DESCRIPTION:
URL:https://tremontschool.org/event/indigenous-peoples-day-no-school/
END:VEVENT
BEGIN:VEVENT
DTSTART;VALUE=DATE:20241111
DTEND;VALUE=DATE:20241112
DTSTAMP:20260420T113823
CREATED:20240409T154524Z
LAST-MODIFIED:20240409T154540Z
UID:3738-1731283200-1731369599@tremontschool.org
SUMMARY:Veterans Day
DESCRIPTION:Public holiday
URL:https://tremontschool.org/event/veterans-day/
END:VEVENT
BEGIN:VEVENT
DTSTART;TZID=America/New_York:20241108T120000
DTEND;TZID=America/New_York:20241108T130000
DTSTAMP:20260420T113823
CREATED:20240920T174411Z
LAST-MODIFIED:20240920T174411Z
UID:4617-1731067200-1731070800@tremontschool.org
SUMMARY:Teacher Development Day- Dismissal
DESCRIPTION:
URL:https://tremontschool.org/event/teacher-development-day-dismissal-2/
END:VEVENT
BEGIN:VEVENT
DTSTART;TZID=America/New_York:20241108T120000
DTEND;TZID=America/New_York:20241108T130000
DTSTAMP:20260420T113823
CREATED:20240920T174410Z
LAST-MODIFIED:20241108T162309Z
UID:4616-1731067200-1731070800@tremontschool.org
SUMMARY:Teacher Development Day- Dismissal
DESCRIPTION:
URL:https://tremontschool.org/event/teacher-development-day-dismissal/
END:VEVENT
BEGIN:VEVENT
DTSTART;VALUE=DATE:20241108
DTEND;VALUE=DATE:20241109
DTSTAMP:20260420T113823
CREATED:20241022T223832Z
LAST-MODIFIED:20241022T223832Z
UID:4721-1731024000-1731110399@tremontschool.org
SUMMARY:Noon Dismissal - Teacher Professional Development
DESCRIPTION:
URL:https://tremontschool.org/event/noon-dismissal-teacher-professional-development-5/
END:VEVENT
BEGIN:VEVENT
DTSTART;VALUE=DATE:20241108
DTEND;VALUE=DATE:20241109
DTSTAMP:20260420T113823
CREATED:20241022T223825Z
LAST-MODIFIED:20241108T162303Z
UID:4720-1731024000-1731110399@tremontschool.org
SUMMARY:Noon Dismissal - Teacher Professional Development
DESCRIPTION:
URL:https://tremontschool.org/event/noon-dismissal-teacher-professional-development-3/
END:VEVENT
BEGIN:VEVENT
DTSTART;VALUE=DATE:20241105
DTEND;VALUE=DATE:20241106
DTSTAMP:20260420T113823
CREATED:20240409T154523Z
LAST-MODIFIED:20240409T154539Z
UID:3737-1730764800-1730851199@tremontschool.org
SUMMARY:Election Day (General Election)
DESCRIPTION:Observance\nTo hide observances\, go to Google Calendar Settings > Holidays in United States
URL:https://tremontschool.org/event/election-day-general-election/
END:VEVENT
BEGIN:VEVENT
DTSTART;VALUE=DATE:20241103
DTEND;VALUE=DATE:20241104
DTSTAMP:20260420T113823
CREATED:20240409T154523Z
LAST-MODIFIED:20240409T154538Z
UID:3736-1730592000-1730678399@tremontschool.org
SUMMARY:Daylight Saving Time ends
DESCRIPTION:Observance\nTo hide observances\, go to Google Calendar Settings > Holidays in United States
URL:https://tremontschool.org/event/daylight-saving-time-ends/
END:VEVENT
BEGIN:VEVENT
DTSTART;VALUE=DATE:20241101
DTEND;VALUE=DATE:20241102
DTSTAMP:20260420T113823
CREATED:20240409T154522Z
LAST-MODIFIED:20240409T154538Z
UID:3735-1730419200-1730505599@tremontschool.org
SUMMARY:First Day of American Indian Heritage Month
DESCRIPTION:Observance\nTo hide observances\, go to Google Calendar Settings > Holidays in United States
URL:https://tremontschool.org/event/first-day-of-american-indian-heritage-month/
END:VEVENT
BEGIN:VEVENT
DTSTART;VALUE=DATE:20241031
DTEND;VALUE=DATE:20241101
DTSTAMP:20260420T113823
CREATED:20241015T215314Z
LAST-MODIFIED:20241030T235640Z
UID:4704-1730332800-1730419199@tremontschool.org
SUMMARY:RAIN DATE - Hike
DESCRIPTION:
URL:https://tremontschool.org/event/rain-date-hike/
END:VEVENT
BEGIN:VEVENT
DTSTART;VALUE=DATE:20241031
DTEND;VALUE=DATE:20241101
DTSTAMP:20260420T113823
CREATED:20240409T154522Z
LAST-MODIFIED:20240409T154537Z
UID:3734-1730332800-1730419199@tremontschool.org
SUMMARY:Halloween
DESCRIPTION:Observance\nTo hide observances\, go to Google Calendar Settings > Holidays in United States
URL:https://tremontschool.org/event/halloween/
END:VEVENT
BEGIN:VEVENT
DTSTART;VALUE=DATE:20241030
DTEND;VALUE=DATE:20241031
DTSTAMP:20260420T113823
CREATED:20240524T185028Z
LAST-MODIFIED:20241030T235646Z
UID:4025-1730246400-1730332799@tremontschool.org
SUMMARY:Goal Setting- Parent Teacher Conferences
DESCRIPTION:
URL:https://tremontschool.org/event/goal-setting-parent-teacher-conferences/
END:VEVENT
BEGIN:VEVENT
DTSTART;VALUE=DATE:20241030
DTEND;VALUE=DATE:20241031
DTSTAMP:20260420T113823
CREATED:20240514T174819Z
LAST-MODIFIED:20240527T190521Z
UID:4004-1730246400-1730332799@tremontschool.org
SUMMARY:Goal Setting
DESCRIPTION:
URL:https://tremontschool.org/event/goal-setting/
END:VEVENT
BEGIN:VEVENT
DTSTART;VALUE=DATE:20241029
DTEND;VALUE=DATE:20241030
DTSTAMP:20260420T113823
CREATED:20241021T222613Z
LAST-MODIFIED:20241029T235518Z
UID:4715-1730160000-1730246399@tremontschool.org
SUMMARY:All school hike
DESCRIPTION:
URL:https://tremontschool.org/event/all-school-hike/
END:VEVENT
BEGIN:VEVENT
DTSTART;VALUE=DATE:20241025
DTEND;VALUE=DATE:20241026
DTSTAMP:20260420T113823
CREATED:20240613T164108Z
LAST-MODIFIED:20241025T230852Z
UID:4049-1729814400-1729900799@tremontschool.org
SUMMARY:Grandfriend's Day- Noon Dismissal
DESCRIPTION:
URL:https://tremontschool.org/event/grandfriends-day/
END:VEVENT
BEGIN:VEVENT
DTSTART;VALUE=DATE:20241024
DTEND;VALUE=DATE:20241025
DTSTAMP:20260420T113823
CREATED:20241021T222536Z
LAST-MODIFIED:20241021T222536Z
UID:4713-1729728000-1729814399@tremontschool.org
SUMMARY:HS Community Service - Gaining Ground
DESCRIPTION:
URL:https://tremontschool.org/event/hs-community-service-gaining-ground-2/
END:VEVENT
BEGIN:VEVENT
DTSTART;VALUE=DATE:20241024
DTEND;VALUE=DATE:20241025
DTSTAMP:20260420T113823
CREATED:20241021T222532Z
LAST-MODIFIED:20241024T230915Z
UID:4712-1729728000-1729814399@tremontschool.org
SUMMARY:HS Community Service - Gaining Ground
DESCRIPTION:
URL:https://tremontschool.org/event/hs-community-service-gaining-ground/
END:VEVENT
END:VCALENDAR