BEGIN:VCALENDAR
VERSION:2.0
PRODID:-//Tremont School - ECPv6.15.20//NONSGML v1.0//EN
CALSCALE:GREGORIAN
METHOD:PUBLISH
X-WR-CALNAME:Tremont School
X-ORIGINAL-URL:https://tremontschool.org
X-WR-CALDESC:Events for Tremont School
REFRESH-INTERVAL;VALUE=DURATION:PT1H
X-Robots-Tag:noindex
X-PUBLISHED-TTL:PT1H
BEGIN:VTIMEZONE
TZID:America/New_York
BEGIN:DAYLIGHT
TZOFFSETFROM:-0500
TZOFFSETTO:-0400
TZNAME:EDT
DTSTART:20250309T070000
END:DAYLIGHT
BEGIN:STANDARD
TZOFFSETFROM:-0400
TZOFFSETTO:-0500
TZNAME:EST
DTSTART:20251102T060000
END:STANDARD
BEGIN:DAYLIGHT
TZOFFSETFROM:-0500
TZOFFSETTO:-0400
TZNAME:EDT
DTSTART:20260308T070000
END:DAYLIGHT
BEGIN:STANDARD
TZOFFSETFROM:-0400
TZOFFSETTO:-0500
TZNAME:EST
DTSTART:20261101T060000
END:STANDARD
BEGIN:DAYLIGHT
TZOFFSETFROM:-0500
TZOFFSETTO:-0400
TZNAME:EDT
DTSTART:20270314T070000
END:DAYLIGHT
BEGIN:STANDARD
TZOFFSETFROM:-0400
TZOFFSETTO:-0500
TZNAME:EST
DTSTART:20271107T060000
END:STANDARD
END:VTIMEZONE
BEGIN:VTIMEZONE
TZID:UTC
BEGIN:STANDARD
TZOFFSETFROM:+0000
TZOFFSETTO:+0000
TZNAME:UTC
DTSTART:20250101T000000
END:STANDARD
END:VTIMEZONE
BEGIN:VEVENT
DTSTART;TZID=America/New_York:20260410T190000
DTEND;TZID=America/New_York:20260410T220000
DTSTAMP:20260419T153235
CREATED:20251204T224357Z
LAST-MODIFIED:20260410T214557Z
UID:6044-1775847600-1775858400@tremontschool.org
SUMMARY:Trivia Night & Auction
DESCRIPTION:Buy your tickets here: https://www.zeffy.com/en-US/ticketing/2026-tremont-trivia-night
URL:https://tremontschool.org/event/trivia-night-auction/
LOCATION:Trinity Church\, 81 Elm St\, Concord\, MA\, United States
END:VEVENT
BEGIN:VEVENT
DTSTART;VALUE=DATE:20260406
DTEND;VALUE=DATE:20260407
DTSTAMP:20260419T153235
CREATED:20240409T154559Z
LAST-MODIFIED:20240409T154721Z
UID:3802-1775433600-1775519999@tremontschool.org
SUMMARY:Easter Monday
DESCRIPTION:Observance\nTo hide observances\, go to Google Calendar Settings > Holidays in United States
URL:https://tremontschool.org/event/easter-monday-2/
END:VEVENT
BEGIN:VEVENT
DTSTART;VALUE=DATE:20260405
DTEND;VALUE=DATE:20260406
DTSTAMP:20260419T153235
CREATED:20240409T154558Z
LAST-MODIFIED:20240409T154720Z
UID:3800-1775347200-1775433599@tremontschool.org
SUMMARY:Easter Sunday
DESCRIPTION:Observance\nTo hide observances\, go to Google Calendar Settings > Holidays in United States
URL:https://tremontschool.org/event/easter-sunday-3/
END:VEVENT
BEGIN:VEVENT
DTSTART;VALUE=DATE:20260403
DTEND;VALUE=DATE:20260404
DTSTAMP:20260419T153235
CREATED:20250729T181827Z
LAST-MODIFIED:20260403T213159Z
UID:5558-1775174400-1775260799@tremontschool.org
SUMMARY:Good Friday - School Closed
DESCRIPTION:
URL:https://tremontschool.org/event/good-friday-school-closed-2/
END:VEVENT
BEGIN:VEVENT
DTSTART;VALUE=DATE:20260402
DTEND;VALUE=DATE:20260403
DTSTAMP:20260419T153235
CREATED:20250729T181827Z
LAST-MODIFIED:20260402T213130Z
UID:5557-1775088000-1775174399@tremontschool.org
SUMMARY:Faculty Work Day - No School
DESCRIPTION:
URL:https://tremontschool.org/event/teacher-work-day-school-closed-2/
END:VEVENT
BEGIN:VEVENT
DTSTART;TZID=America/New_York:20260325T183000
DTEND;TZID=America/New_York:20260325T203000
DTSTAMP:20260419T153235
CREATED:20260321T210828Z
LAST-MODIFIED:20260325T211624Z
UID:6193-1774463400-1774470600@tremontschool.org
SUMMARY:Parent Education w/Dr.Karin Maria Hodges\, Psy.D.
DESCRIPTION:Krista Demas is inviting you to a scheduled Zoom meeting.\nJoin Zoom Meeting\nhttps://tremontschool-org.zoom.us/j/94762675167?pwd=ZVkB8o6ay5mKr92rVx0o5HMGU0slyv.1\nMeeting ID: 947 6267 5167\nPasscode: 968741\n—\nOne tap mobile\n+13126266799\,\,94762675167#\,\,\,\,*968741# US (Chicago)\n+16465588656\,\,94762675167#\,\,\,\,*968741# US (New York)\nJoin instructions\nhttps://tremontschool-org.zoom.us/meetings/94762675167/invitations?signature=mjl71T2WvKB1lftQR4gcqQOl8r2QEnzGF4xCpKgGwy8
URL:https://tremontschool.org/event/parent-education-w-dr-karin-maria-hodges-psy-d/
LOCATION:https://tremontschool-org.zoom.us/j/94762675167?pwd=ZVkB8o6ay5mKr92rVx0o5HMGU0slyv.1
END:VEVENT
BEGIN:VEVENT
DTSTART;TZID=America/New_York:20260325T183000
DTEND;TZID=America/New_York:20260325T193000
DTSTAMP:20260419T153235
CREATED:20260320T205530Z
LAST-MODIFIED:20260320T205532Z
UID:6189-1774463400-1774467000@tremontschool.org
SUMMARY:Not too Stressed to Grow in Stress: Karin Hodges\, Psy.D. - Parent Ed -
DESCRIPTION:
URL:https://tremontschool.org/event/not-too-stressed-to-grow-in-stress-karin-hodges-psy-d-parent-ed/
END:VEVENT
BEGIN:VEVENT
DTSTART;VALUE=DATE:20260318
DTEND;VALUE=DATE:20260319
DTSTAMP:20260419T153235
CREATED:20260318T184623Z
LAST-MODIFIED:20260318T205330Z
UID:6162-1773792000-1773878399@tremontschool.org
SUMMARY:Museum of Science Field Trip (MS)
DESCRIPTION:
URL:https://tremontschool.org/event/museum-of-science-field-trip-ms/
END:VEVENT
BEGIN:VEVENT
DTSTART;VALUE=DATE:20260317
DTEND;VALUE=DATE:20260318
DTSTAMP:20260419T153235
CREATED:20240409T154557Z
LAST-MODIFIED:20240409T154719Z
UID:3798-1773705600-1773791999@tremontschool.org
SUMMARY:St. Patrick's Day
DESCRIPTION:Observance\nTo hide observances\, go to Google Calendar Settings > Holidays in United States
URL:https://tremontschool.org/event/st-patricks-day-2/
END:VEVENT
BEGIN:VEVENT
DTSTART;TZID=America/New_York:20260313T113000
DTEND;TZID=America/New_York:20260313T130000
DTSTAMP:20260419T153235
CREATED:20250819T190134Z
LAST-MODIFIED:20251211T231029Z
UID:5666-1773401400-1773406800@tremontschool.org
SUMMARY:Teacher Appreciation Lunch
DESCRIPTION:
URL:https://tremontschool.org/event/teacher-appreciation-lunch-2/
END:VEVENT
BEGIN:VEVENT
DTSTART;TZID=America/New_York:20260313T080000
DTEND;TZID=America/New_York:20260313T100000
DTSTAMP:20260419T153235
CREATED:20251003T174508Z
LAST-MODIFIED:20251211T231029Z
UID:5906-1773388800-1773396000@tremontschool.org
SUMMARY:Parent Coffee
DESCRIPTION:
URL:https://tremontschool.org/event/parent-coffee-14/
END:VEVENT
BEGIN:VEVENT
DTSTART;VALUE=DATE:20260313
DTEND;VALUE=DATE:20260314
DTSTAMP:20260419T153235
CREATED:20250729T181827Z
LAST-MODIFIED:20251211T231028Z
UID:5555-1773360000-1773446399@tremontschool.org
SUMMARY:Career Day Part 2 - Noon Dismissal & Professional Development
DESCRIPTION:
URL:https://tremontschool.org/event/career-day-part-2-noon-dismissal-professional-development/
END:VEVENT
BEGIN:VEVENT
DTSTART;VALUE=DATE:20260312
DTEND;VALUE=DATE:20260313
DTSTAMP:20260419T153235
CREATED:20250729T181827Z
LAST-MODIFIED:20251211T231028Z
UID:5556-1773273600-1773359999@tremontschool.org
SUMMARY:Career Day Part 1
DESCRIPTION:
URL:https://tremontschool.org/event/career-day-part-1/
END:VEVENT
BEGIN:VEVENT
DTSTART;VALUE=DATE:20260308
DTEND;VALUE=DATE:20260309
DTSTAMP:20260419T153235
CREATED:20240409T154557Z
LAST-MODIFIED:20240409T154719Z
UID:3796-1772928000-1773014399@tremontschool.org
SUMMARY:Daylight Saving Time starts
DESCRIPTION:Observance\nTo hide observances\, go to Google Calendar Settings > Holidays in United States
URL:https://tremontschool.org/event/daylight-saving-time-starts-2/
END:VEVENT
BEGIN:VEVENT
DTSTART;VALUE=DATE:20260225
DTEND;VALUE=DATE:20260226
DTSTAMP:20260419T153235
CREATED:20250729T181826Z
LAST-MODIFIED:20251211T231028Z
UID:5554-1771977600-1772063999@tremontschool.org
SUMMARY:Secret Yeti/Winter Feast
DESCRIPTION:
URL:https://tremontschool.org/event/secret-yeti-winter-feast/
END:VEVENT
BEGIN:VEVENT
DTSTART;VALUE=DATE:20260217
DTEND;VALUE=DATE:20260221
DTSTAMP:20260419T153235
CREATED:20250729T181826Z
LAST-MODIFIED:20251211T231028Z
UID:5553-1771286400-1771631999@tremontschool.org
SUMMARY:February Break - No School
DESCRIPTION:
URL:https://tremontschool.org/event/february-break-2/
END:VEVENT
BEGIN:VEVENT
DTSTART;VALUE=DATE:20260216
DTEND;VALUE=DATE:20260217
DTSTAMP:20260419T153235
CREATED:20250729T181826Z
LAST-MODIFIED:20251211T231028Z
UID:5552-1771200000-1771286399@tremontschool.org
SUMMARY:President's Day - School Closed
DESCRIPTION:
URL:https://tremontschool.org/event/presidents-day-school-closed-2/
END:VEVENT
BEGIN:VEVENT
DTSTART;VALUE=DATE:20260214
DTEND;VALUE=DATE:20260215
DTSTAMP:20260419T153235
CREATED:20240409T154553Z
LAST-MODIFIED:20240409T154717Z
UID:3791-1771027200-1771113599@tremontschool.org
SUMMARY:Valentine's Day
DESCRIPTION:Observance\nTo hide observances\, go to Google Calendar Settings > Holidays in United States
URL:https://tremontschool.org/event/valentines-day-3/
END:VEVENT
BEGIN:VEVENT
DTSTART;TZID=America/New_York:20260211T080000
DTEND;TZID=America/New_York:20260211T100000
DTSTAMP:20260419T153235
CREATED:20251003T174508Z
LAST-MODIFIED:20251211T231028Z
UID:5905-1770796800-1770804000@tremontschool.org
SUMMARY:Parent Coffee
DESCRIPTION:
URL:https://tremontschool.org/event/parent-coffee-13/
END:VEVENT
BEGIN:VEVENT
DTSTART;VALUE=DATE:20260202
DTEND;VALUE=DATE:20260203
DTSTAMP:20260419T153235
CREATED:20250729T181826Z
LAST-MODIFIED:20251211T231028Z
UID:5551-1769990400-1770076799@tremontschool.org
SUMMARY:Parent/Teacher Conferences - No School
DESCRIPTION:
URL:https://tremontschool.org/event/parent-teacher-conferences-no-school/
END:VEVENT
BEGIN:VEVENT
DTSTART;VALUE=DATE:20260120
DTEND;VALUE=DATE:20260121
DTSTAMP:20260419T153235
CREATED:20250729T181826Z
LAST-MODIFIED:20251211T231028Z
UID:5549-1768867200-1768953599@tremontschool.org
SUMMARY:Faculty Work Day - No School
DESCRIPTION:
URL:https://tremontschool.org/event/teacher-work-day/
END:VEVENT
BEGIN:VEVENT
DTSTART;VALUE=DATE:20260119
DTEND;VALUE=DATE:20260120
DTSTAMP:20260419T153235
CREATED:20250729T181826Z
LAST-MODIFIED:20251211T231028Z
UID:5550-1768780800-1768867199@tremontschool.org
SUMMARY:Martin Luther King Jr. Day - School Closed
DESCRIPTION:
URL:https://tremontschool.org/event/martin-luther-king-jr-day-school-closed/
END:VEVENT
BEGIN:VEVENT
DTSTART;TZID=America/New_York:20260116T080000
DTEND;TZID=America/New_York:20260116T100000
DTSTAMP:20260419T153235
CREATED:20251003T174507Z
LAST-MODIFIED:20251211T231028Z
UID:5904-1768550400-1768557600@tremontschool.org
SUMMARY:Parent Coffee
DESCRIPTION:
URL:https://tremontschool.org/event/parent-coffee-12/
END:VEVENT
BEGIN:VEVENT
DTSTART;VALUE=DATE:20260116
DTEND;VALUE=DATE:20260117
DTSTAMP:20260419T153235
CREATED:20250729T181826Z
LAST-MODIFIED:20251211T231028Z
UID:5548-1768521600-1768607999@tremontschool.org
SUMMARY:Professional Development - Noon Dismissal
DESCRIPTION:
URL:https://tremontschool.org/event/professional-development-noon-dismissal-3/
END:VEVENT
BEGIN:VEVENT
DTSTART;VALUE=DATE:20260112
DTEND;VALUE=DATE:20260115
DTSTAMP:20260419T153235
CREATED:20250729T181826Z
LAST-MODIFIED:20251211T231029Z
UID:5547-1768176000-1768435199@tremontschool.org
SUMMARY:High School Portfolio Presentations - Families Attend by Appointment
DESCRIPTION:
URL:https://tremontschool.org/event/high-school-portfolio-presentations-families-attend-by-appointment-2/
END:VEVENT
BEGIN:VEVENT
DTSTART;VALUE=DATE:20260108
DTEND;VALUE=DATE:20260110
DTSTAMP:20260419T153235
CREATED:20250729T181826Z
LAST-MODIFIED:20251211T231029Z
UID:5546-1767830400-1768003199@tremontschool.org
SUMMARY:High School Portfolio Presentations - Families Attend by Appointment
DESCRIPTION:
URL:https://tremontschool.org/event/high-school-portfolio-presentations-families-attend-by-appointment/
END:VEVENT
BEGIN:VEVENT
DTSTART;VALUE=DATE:20260105
DTEND;VALUE=DATE:20260106
DTSTAMP:20260419T153235
CREATED:20250729T181826Z
LAST-MODIFIED:20251211T231029Z
UID:5545-1767571200-1767657599@tremontschool.org
SUMMARY:Classes Resume
DESCRIPTION:
URL:https://tremontschool.org/event/classes-resume/
END:VEVENT
BEGIN:VEVENT
DTSTART;VALUE=DATE:20260102
DTEND;VALUE=DATE:20260103
DTSTAMP:20260419T153235
CREATED:20250730T181702Z
LAST-MODIFIED:20251211T231029Z
UID:5597-1767312000-1767398399@tremontschool.org
SUMMARY:December Break - No School
DESCRIPTION:
URL:https://tremontschool.org/event/december-break-no-school-2/
END:VEVENT
BEGIN:VEVENT
DTSTART;VALUE=DATE:20260101
DTEND;VALUE=DATE:20260102
DTSTAMP:20260419T153235
CREATED:20250730T181703Z
LAST-MODIFIED:20251211T231029Z
UID:5598-1767225600-1767311999@tremontschool.org
SUMMARY:New Year's Day - School Closed
DESCRIPTION:
URL:https://tremontschool.org/event/new-years-day-school-closed/
END:VEVENT
BEGIN:VEVENT
DTSTART;VALUE=DATE:20260101
DTEND;VALUE=DATE:20260102
DTSTAMP:20260419T153235
CREATED:20240409T154552Z
LAST-MODIFIED:20240409T154701Z
UID:3789-1767225600-1767311999@tremontschool.org
SUMMARY:New Year's Day
DESCRIPTION:Public holiday
URL:https://tremontschool.org/event/new-years-day-2/
END:VEVENT
END:VCALENDAR