BEGIN:VCALENDAR
VERSION:2.0
PRODID:-//Tremont School - ECPv6.15.20//NONSGML v1.0//EN
CALSCALE:GREGORIAN
METHOD:PUBLISH
X-WR-CALNAME:Tremont School
X-ORIGINAL-URL:https://tremontschool.org
X-WR-CALDESC:Events for Tremont School
REFRESH-INTERVAL;VALUE=DURATION:PT1H
X-Robots-Tag:noindex
X-PUBLISHED-TTL:PT1H
BEGIN:VTIMEZONE
TZID:America/New_York
BEGIN:DAYLIGHT
TZOFFSETFROM:-0500
TZOFFSETTO:-0400
TZNAME:EDT
DTSTART:20230312T070000
END:DAYLIGHT
BEGIN:STANDARD
TZOFFSETFROM:-0400
TZOFFSETTO:-0500
TZNAME:EST
DTSTART:20231105T060000
END:STANDARD
BEGIN:DAYLIGHT
TZOFFSETFROM:-0500
TZOFFSETTO:-0400
TZNAME:EDT
DTSTART:20240310T070000
END:DAYLIGHT
BEGIN:STANDARD
TZOFFSETFROM:-0400
TZOFFSETTO:-0500
TZNAME:EST
DTSTART:20241103T060000
END:STANDARD
BEGIN:DAYLIGHT
TZOFFSETFROM:-0500
TZOFFSETTO:-0400
TZNAME:EDT
DTSTART:20250309T070000
END:DAYLIGHT
BEGIN:STANDARD
TZOFFSETFROM:-0400
TZOFFSETTO:-0500
TZNAME:EST
DTSTART:20251102T060000
END:STANDARD
END:VTIMEZONE
BEGIN:VTIMEZONE
TZID:UTC
BEGIN:STANDARD
TZOFFSETFROM:+0000
TZOFFSETTO:+0000
TZNAME:UTC
DTSTART:20230101T000000
END:STANDARD
END:VTIMEZONE
BEGIN:VEVENT
DTSTART;TZID=America/New_York:20240509T150000
DTEND;TZID=America/New_York:20240509T154500
DTSTAMP:20260422T182804
CREATED:20240409T180723Z
LAST-MODIFIED:20240509T170324Z
UID:3617-1715266800-1715269500@tremontschool.org
SUMMARY:After-School Clubs
DESCRIPTION:Please email office@tremontschool.org for details on after-school clubs
URL:https://tremontschool.org/event/after-school-clubs-20/
END:VEVENT
BEGIN:VEVENT
DTSTART;TZID=America/New_York:20240508T150000
DTEND;TZID=America/New_York:20240508T154500
DTSTAMP:20260422T182804
CREATED:20240409T180722Z
LAST-MODIFIED:20240508T170300Z
UID:3616-1715180400-1715183100@tremontschool.org
SUMMARY:After-School Clubs
DESCRIPTION:Please email office@tremontschool.org for details on after-school clubs
URL:https://tremontschool.org/event/after-school-clubs-19/
END:VEVENT
BEGIN:VEVENT
DTSTART;TZID=America/New_York:20240506T150000
DTEND;TZID=America/New_York:20240506T154500
DTSTAMP:20260422T182804
CREATED:20240409T180722Z
LAST-MODIFIED:20240506T164751Z
UID:3615-1715007600-1715010300@tremontschool.org
SUMMARY:After-School Clubs
DESCRIPTION:Please email office@tremontschool.org for details on after-school clubs
URL:https://tremontschool.org/event/after-school-clubs-18/
END:VEVENT
BEGIN:VEVENT
DTSTART;VALUE=DATE:20240505
DTEND;VALUE=DATE:20240506
DTSTAMP:20260422T182804
CREATED:20240409T154516Z
LAST-MODIFIED:20240409T154516Z
UID:3715-1714867200-1714953599@tremontschool.org
SUMMARY:Cinco de Mayo
DESCRIPTION:Observance\nTo hide observances\, go to Google Calendar Settings > Holidays in United States
URL:https://tremontschool.org/event/cinco-de-mayo-3/
END:VEVENT
BEGIN:VEVENT
DTSTART;TZID=America/New_York:20240502T190000
DTEND;TZID=America/New_York:20240502T203000
DTSTAMP:20260422T182804
CREATED:20240409T180721Z
LAST-MODIFIED:20240502T163301Z
UID:3614-1714676400-1714681800@tremontschool.org
SUMMARY:Wine & Cheese with the Board for Parents
DESCRIPTION:
URL:https://tremontschool.org/event/wine-cheese-with-the-board-for-parents/
LOCATION:Tremont School\, 575 Virginia Rd\, Concord\, MA 01742\, USA
END:VEVENT
BEGIN:VEVENT
DTSTART;TZID=America/New_York:20240502T190000
DTEND;TZID=America/New_York:20240502T200000
DTSTAMP:20260422T182804
CREATED:20240409T180721Z
LAST-MODIFIED:20240502T163300Z
UID:3612-1714676400-1714680000@tremontschool.org
SUMMARY:Admissions Open House via Zoom
DESCRIPTION:Click Here to RSVP!
URL:https://tremontschool.org/event/admissions-open-house-via-zoom-6/
END:VEVENT
BEGIN:VEVENT
DTSTART;TZID=America/New_York:20240502T150000
DTEND;TZID=America/New_York:20240502T154500
DTSTAMP:20260422T182804
CREATED:20240409T180720Z
LAST-MODIFIED:20240502T163256Z
UID:3611-1714662000-1714664700@tremontschool.org
SUMMARY:After-School Clubs
DESCRIPTION:Please email office@tremontschool.org for details on after-school clubs
URL:https://tremontschool.org/event/after-school-clubs-17/
END:VEVENT
BEGIN:VEVENT
DTSTART;TZID=America/New_York:20240501T150000
DTEND;TZID=America/New_York:20240501T154500
DTSTAMP:20260422T182804
CREATED:20240409T180720Z
LAST-MODIFIED:20240501T163359Z
UID:3610-1714575600-1714578300@tremontschool.org
SUMMARY:After-School Clubs
DESCRIPTION:Please email office@tremontschool.org for details on after-school clubs
URL:https://tremontschool.org/event/after-school-clubs-16/
END:VEVENT
BEGIN:VEVENT
DTSTART;VALUE=DATE:20240501
DTEND;VALUE=DATE:20240502
DTSTAMP:20260422T182804
CREATED:20240409T154515Z
LAST-MODIFIED:20240409T154515Z
UID:3713-1714521600-1714607999@tremontschool.org
SUMMARY:First Day of Asian Pacific American Heritage Month
DESCRIPTION:Observance\nTo hide observances\, go to Google Calendar Settings > Holidays in United States
URL:https://tremontschool.org/event/first-day-of-asian-pacific-american-heritage-month-3/
END:VEVENT
BEGIN:VEVENT
DTSTART;TZID=America/New_York:20240429T150000
DTEND;TZID=America/New_York:20240429T154500
DTSTAMP:20260422T182804
CREATED:20240409T180719Z
LAST-MODIFIED:20240429T163513Z
UID:3609-1714402800-1714405500@tremontschool.org
SUMMARY:After-School Clubs
DESCRIPTION:Please email office@tremontschool.org for details on after-school clubs
URL:https://tremontschool.org/event/after-school-clubs-15/
END:VEVENT
BEGIN:VEVENT
DTSTART;VALUE=DATE:20240426
DTEND;VALUE=DATE:20240427
DTSTAMP:20260422T182804
CREATED:20240409T180718Z
LAST-MODIFIED:20240426T162106Z
UID:3607-1714089600-1714175999@tremontschool.org
SUMMARY:Independent Study Projects  (9th Grade)
DESCRIPTION:
URL:https://tremontschool.org/event/independent-study-projects-9th-grade-2/
END:VEVENT
BEGIN:VEVENT
DTSTART;TZID=America/New_York:20240425T150000
DTEND;TZID=America/New_York:20240425T154500
DTSTAMP:20260422T182804
CREATED:20240409T180718Z
LAST-MODIFIED:20240425T161711Z
UID:3606-1714057200-1714059900@tremontschool.org
SUMMARY:After-School Clubs
DESCRIPTION:Please email office@tremontschool.org for details on after-school clubs
URL:https://tremontschool.org/event/after-school-clubs-14/
END:VEVENT
BEGIN:VEVENT
DTSTART;VALUE=DATE:20240425
DTEND;VALUE=DATE:20240426
DTSTAMP:20260422T182804
CREATED:20240409T180719Z
LAST-MODIFIED:20240425T161715Z
UID:3608-1714003200-1714089599@tremontschool.org
SUMMARY:Independent Study Projects  (10th Grade)
DESCRIPTION:
URL:https://tremontschool.org/event/independent-study-projects-10th-grade-2/
END:VEVENT
BEGIN:VEVENT
DTSTART;TZID=America/New_York:20240424T150000
DTEND;TZID=America/New_York:20240424T154500
DTSTAMP:20260422T182804
CREATED:20240409T180717Z
LAST-MODIFIED:20240424T161710Z
UID:3603-1713970800-1713973500@tremontschool.org
SUMMARY:After-School Clubs
DESCRIPTION:Please email office@tremontschool.org for details on after-school clubs
URL:https://tremontschool.org/event/after-school-clubs-13/
END:VEVENT
BEGIN:VEVENT
DTSTART;TZID=America/New_York:20240424T081500
DTEND;TZID=America/New_York:20240424T094500
DTSTAMP:20260422T182804
CREATED:20240409T180716Z
LAST-MODIFIED:20240423T161810Z
UID:3601-1713946500-1713951900@tremontschool.org
SUMMARY:Parent Coffee
DESCRIPTION:
URL:https://tremontschool.org/event/parent-coffee-2/
END:VEVENT
BEGIN:VEVENT
DTSTART;VALUE=DATE:20240424
DTEND;VALUE=DATE:20240425
DTSTAMP:20260422T182804
CREATED:20240409T180717Z
LAST-MODIFIED:20240424T161713Z
UID:3605-1713916800-1714003199@tremontschool.org
SUMMARY:Independent Study Projects (11th Grade)
DESCRIPTION:
URL:https://tremontschool.org/event/independent-study-projects-11th-grade-3/
END:VEVENT
BEGIN:VEVENT
DTSTART;TZID=America/New_York:20240422T150000
DTEND;TZID=America/New_York:20240422T154500
DTSTAMP:20260422T182804
CREATED:20240409T180716Z
LAST-MODIFIED:20240422T161714Z
UID:3598-1713798000-1713800700@tremontschool.org
SUMMARY:After-School Clubs
DESCRIPTION:Please email office@tremontschool.org for details on after-school clubs
URL:https://tremontschool.org/event/after-school-clubs-10/
END:VEVENT
BEGIN:VEVENT
DTSTART;VALUE=DATE:20240415
DTEND;VALUE=DATE:20240420
DTSTAMP:20260422T182804
CREATED:20240409T180715Z
LAST-MODIFIED:20240419T160638Z
UID:3597-1713139200-1713571199@tremontschool.org
SUMMARY:April Break - SCHOOL CLOSED
DESCRIPTION:
URL:https://tremontschool.org/event/april-break-school-closed-3/
END:VEVENT
BEGIN:VEVENT
DTSTART;VALUE=DATE:20240415
DTEND;VALUE=DATE:20240416
DTSTAMP:20260422T182804
CREATED:20240409T154512Z
LAST-MODIFIED:20240409T154512Z
UID:3710-1713139200-1713225599@tremontschool.org
SUMMARY:Tax Day
DESCRIPTION:Observance\nTo hide observances\, go to Google Calendar Settings > Holidays in United States
URL:https://tremontschool.org/event/tax-day/
END:VEVENT
BEGIN:VEVENT
DTSTART;VALUE=DATE:20240412
DTEND;VALUE=DATE:20240413
DTSTAMP:20260422T182804
CREATED:20240409T180715Z
LAST-MODIFIED:20240412T153247Z
UID:3595-1712880000-1712966399@tremontschool.org
SUMMARY:MS Fun Day
DESCRIPTION:
URL:https://tremontschool.org/event/ms-fun-day-3/
END:VEVENT
BEGIN:VEVENT
DTSTART;TZID=America/New_York:20240411T150000
DTEND;TZID=America/New_York:20240411T154500
DTSTAMP:20260422T182804
CREATED:20240409T180714Z
LAST-MODIFIED:20240411T153201Z
UID:3593-1712847600-1712850300@tremontschool.org
SUMMARY:After-School Clubs
DESCRIPTION:Please email office@tremontschool.org for details on after-school clubs
URL:https://tremontschool.org/event/after-school-clubs-9/
END:VEVENT
BEGIN:VEVENT
DTSTART;TZID=America/New_York:20240410T150000
DTEND;TZID=America/New_York:20240410T154500
DTSTAMP:20260422T182804
CREATED:20240409T180714Z
LAST-MODIFIED:20240410T140647Z
UID:3591-1712761200-1712763900@tremontschool.org
SUMMARY:After-School Clubs
DESCRIPTION:Please email office@tremontschool.org for details on after-school clubs
URL:https://tremontschool.org/event/after-school-clubs-7/
END:VEVENT
BEGIN:VEVENT
DTSTART;TZID=America/New_York:20240410T120000
DTEND;TZID=America/New_York:20240410T130000
DTSTAMP:20260422T182804
CREATED:20240409T180710Z
LAST-MODIFIED:20240410T140645Z
UID:3587-1712750400-1712754000@tremontschool.org
SUMMARY:Lunchtime Virtual Open House
DESCRIPTION:
URL:https://tremontschool.org/event/lunchtime-virtual-open-house-2/
END:VEVENT
BEGIN:VEVENT
DTSTART;VALUE=DATE:20240409
DTEND;VALUE=DATE:20240412
DTSTAMP:20260422T182804
CREATED:20240409T180713Z
LAST-MODIFIED:20240411T153158Z
UID:3588-1712620800-1712879999@tremontschool.org
SUMMARY:MS Portfolio Presentations
DESCRIPTION:
URL:https://tremontschool.org/event/ms-portfolio-presentations-2/
END:VEVENT
END:VCALENDAR