BEGIN:VCALENDAR
VERSION:2.0
PRODID:-//Tremont School - ECPv6.15.20//NONSGML v1.0//EN
CALSCALE:GREGORIAN
METHOD:PUBLISH
X-WR-CALNAME:Tremont School
X-ORIGINAL-URL:https://tremontschool.org
X-WR-CALDESC:Events for Tremont School
REFRESH-INTERVAL;VALUE=DURATION:PT1H
X-Robots-Tag:noindex
X-PUBLISHED-TTL:PT1H
BEGIN:VTIMEZONE
TZID:America/New_York
BEGIN:DAYLIGHT
TZOFFSETFROM:-0500
TZOFFSETTO:-0400
TZNAME:EDT
DTSTART:20240310T070000
END:DAYLIGHT
BEGIN:STANDARD
TZOFFSETFROM:-0400
TZOFFSETTO:-0500
TZNAME:EST
DTSTART:20241103T060000
END:STANDARD
BEGIN:DAYLIGHT
TZOFFSETFROM:-0500
TZOFFSETTO:-0400
TZNAME:EDT
DTSTART:20250309T070000
END:DAYLIGHT
BEGIN:STANDARD
TZOFFSETFROM:-0400
TZOFFSETTO:-0500
TZNAME:EST
DTSTART:20251102T060000
END:STANDARD
BEGIN:DAYLIGHT
TZOFFSETFROM:-0500
TZOFFSETTO:-0400
TZNAME:EDT
DTSTART:20260308T070000
END:DAYLIGHT
BEGIN:STANDARD
TZOFFSETFROM:-0400
TZOFFSETTO:-0500
TZNAME:EST
DTSTART:20261101T060000
END:STANDARD
END:VTIMEZONE
BEGIN:VTIMEZONE
TZID:UTC
BEGIN:STANDARD
TZOFFSETFROM:+0000
TZOFFSETTO:+0000
TZNAME:UTC
DTSTART:20240101T000000
END:STANDARD
END:VTIMEZONE
BEGIN:VEVENT
DTSTART;VALUE=DATE:20251127
DTEND;VALUE=DATE:20251128
DTSTAMP:20260420T035925
CREATED:20251029T171948Z
LAST-MODIFIED:20251125T191920Z
UID:5984-1764201600-1764287999@tremontschool.org
SUMMARY:Saturday Series: Concord Turkey Trot
DESCRIPTION:
URL:https://tremontschool.org/event/saturday-series-concord-turkey-trot/
END:VEVENT
BEGIN:VEVENT
DTSTART;VALUE=DATE:20251127
DTEND;VALUE=DATE:20251128
DTSTAMP:20260420T035925
CREATED:20240409T154549Z
LAST-MODIFIED:20240409T154657Z
UID:3784-1764201600-1764287999@tremontschool.org
SUMMARY:Thanksgiving Day
DESCRIPTION:Public holiday
URL:https://tremontschool.org/event/thanksgiving-day-2/
END:VEVENT
BEGIN:VEVENT
DTSTART;VALUE=DATE:20251126
DTEND;VALUE=DATE:20251129
DTSTAMP:20260420T035925
CREATED:20250729T181825Z
LAST-MODIFIED:20251125T191920Z
UID:5540-1764115200-1764374399@tremontschool.org
SUMMARY:Thanksgiving Break - School Closed
DESCRIPTION:
URL:https://tremontschool.org/event/thanksgiving-break-school-closed/
END:VEVENT
BEGIN:VEVENT
DTSTART;TZID=America/New_York:20251113T143000
DTEND;TZID=America/New_York:20251113T160000
DTSTAMP:20260420T035925
CREATED:20251003T174505Z
LAST-MODIFIED:20251113T185024Z
UID:5901-1763044200-1763049600@tremontschool.org
SUMMARY:Parent Coffee w/ Friends & Allies
DESCRIPTION:8:30 am?
URL:https://tremontschool.org/event/parent-coffee-w-friends-allies/
END:VEVENT
BEGIN:VEVENT
DTSTART;VALUE=DATE:20251111
DTEND;VALUE=DATE:20251112
DTSTAMP:20260420T035925
CREATED:20250729T181825Z
LAST-MODIFIED:20251111T183306Z
UID:5538-1762819200-1762905599@tremontschool.org
SUMMARY:Veteran's Day - School Closed
DESCRIPTION:
URL:https://tremontschool.org/event/veterans-day-school-closed/
END:VEVENT
BEGIN:VEVENT
DTSTART;VALUE=DATE:20251110
DTEND;VALUE=DATE:20251111
DTSTAMP:20260420T035925
CREATED:20250729T181825Z
LAST-MODIFIED:20251110T183306Z
UID:5536-1762732800-1762819199@tremontschool.org
SUMMARY:Faculty Work Day - School Closed
DESCRIPTION:
URL:https://tremontschool.org/event/teacher-work-day-school-closed/
END:VEVENT
BEGIN:VEVENT
DTSTART;VALUE=DATE:20251108
DTEND;VALUE=DATE:20251109
DTSTAMP:20260420T035925
CREATED:20251029T171944Z
LAST-MODIFIED:20251029T171944Z
UID:5983-1762560000-1762646399@tremontschool.org
SUMMARY:SAT @ Tremont
DESCRIPTION:
URL:https://tremontschool.org/event/sat-tremont-2/
END:VEVENT
BEGIN:VEVENT
DTSTART;VALUE=DATE:20251108
DTEND;VALUE=DATE:20251109
DTSTAMP:20260420T035925
CREATED:20251029T171943Z
LAST-MODIFIED:20251108T183307Z
UID:5982-1762560000-1762646399@tremontschool.org
SUMMARY:SAT @ Tremont
DESCRIPTION:
URL:https://tremontschool.org/event/sat-tremont/
END:VEVENT
BEGIN:VEVENT
DTSTART;VALUE=DATE:20251107
DTEND;VALUE=DATE:20251108
DTSTAMP:20260420T035925
CREATED:20250729T181825Z
LAST-MODIFIED:20251107T183307Z
UID:5535-1762473600-1762559999@tremontschool.org
SUMMARY:Grandfriends Day - Noon Dismissal and Professional Development
DESCRIPTION:
URL:https://tremontschool.org/event/grandfriends-day-noon-dismissal-and-professional-development/
END:VEVENT
BEGIN:VEVENT
DTSTART;VALUE=DATE:20251104
DTEND;VALUE=DATE:20251105
DTSTAMP:20260420T035925
CREATED:20240409T154548Z
LAST-MODIFIED:20240409T154656Z
UID:3782-1762214400-1762300799@tremontschool.org
SUMMARY:Election Day
DESCRIPTION:Observance\nTo hide observances\, go to Google Calendar Settings > Holidays in United States
URL:https://tremontschool.org/event/election-day/
END:VEVENT
BEGIN:VEVENT
DTSTART;VALUE=DATE:20251102
DTEND;VALUE=DATE:20251103
DTSTAMP:20260420T035925
CREATED:20240409T154546Z
LAST-MODIFIED:20240409T154642Z
UID:3779-1762041600-1762127999@tremontschool.org
SUMMARY:Daylight Saving Time ends
DESCRIPTION:Observance\nTo hide observances\, go to Google Calendar Settings > Holidays in United States
URL:https://tremontschool.org/event/daylight-saving-time-ends-2/
END:VEVENT
BEGIN:VEVENT
DTSTART;VALUE=DATE:20251101
DTEND;VALUE=DATE:20251102
DTSTAMP:20260420T035925
CREATED:20250918T121704Z
LAST-MODIFIED:20251025T164430Z
UID:5860-1761955200-1762041599@tremontschool.org
SUMMARY:MA State MS Cross Country Championship
DESCRIPTION:
URL:https://tremontschool.org/event/ma-state-ms-cross-country-championship/
LOCATION:Willard Park\, 42 Sherman Ave\, Harvard Station\, MA\, United States
END:VEVENT
BEGIN:VEVENT
DTSTART;VALUE=DATE:20251101
DTEND;VALUE=DATE:20251102
DTSTAMP:20260420T035925
CREATED:20240409T154547Z
LAST-MODIFIED:20240409T154653Z
UID:3780-1761955200-1762041599@tremontschool.org
SUMMARY:First Day of American Indian Heritage Month
DESCRIPTION:Observance\nTo hide observances\, go to Google Calendar Settings > Holidays in United States
URL:https://tremontschool.org/event/first-day-of-american-indian-heritage-month-2/
END:VEVENT
BEGIN:VEVENT
DTSTART;VALUE=DATE:20251031
DTEND;VALUE=DATE:20251101
DTSTAMP:20260420T035925
CREATED:20250729T181825Z
LAST-MODIFIED:20251031T174812Z
UID:5533-1761868800-1761955199@tremontschool.org
SUMMARY:Goal Setting Conferences - Parents and Students Attend
DESCRIPTION:
URL:https://tremontschool.org/event/goal-setting-conferences-parents-and-students-attend/
END:VEVENT
BEGIN:VEVENT
DTSTART;VALUE=DATE:20251031
DTEND;VALUE=DATE:20251101
DTSTAMP:20260420T035925
CREATED:20240409T154547Z
LAST-MODIFIED:20240409T154655Z
UID:3781-1761868800-1761955199@tremontschool.org
SUMMARY:Halloween
DESCRIPTION:Observance\nTo hide observances\, go to Google Calendar Settings > Holidays in United States
URL:https://tremontschool.org/event/halloween-2/
END:VEVENT
BEGIN:VEVENT
DTSTART;VALUE=DATE:20251029
DTEND;VALUE=DATE:20251030
DTSTAMP:20260420T035925
CREATED:20251027T165926Z
LAST-MODIFIED:20251029T171939Z
UID:5970-1761696000-1761782399@tremontschool.org
SUMMARY:11-12 trip to Walden Pond
DESCRIPTION:
URL:https://tremontschool.org/event/11-12-trip-to-walden-pond/
END:VEVENT
BEGIN:VEVENT
DTSTART;VALUE=DATE:20251029
DTEND;VALUE=DATE:20251030
DTSTAMP:20260420T035925
CREATED:20251027T165926Z
LAST-MODIFIED:20251027T165926Z
UID:5971-1761696000-1761782399@tremontschool.org
SUMMARY:11-12 trip to Walden Pond
DESCRIPTION:
URL:https://tremontschool.org/event/11-12-trip-to-walden-pond-2/
END:VEVENT
BEGIN:VEVENT
DTSTART;VALUE=DATE:20251028
DTEND;VALUE=DATE:20251029
DTSTAMP:20260420T035925
CREATED:20251024T164436Z
LAST-MODIFIED:20251028T170643Z
UID:5962-1761609600-1761695999@tremontschool.org
SUMMARY:Middle School Apple Picking
DESCRIPTION:
URL:https://tremontschool.org/event/middle-school-apple-picking/
END:VEVENT
BEGIN:VEVENT
DTSTART;TZID=America/New_York:20251024T183000
DTEND;TZID=America/New_York:20251024T210000
DTSTAMP:20260420T035925
CREATED:20250915T212840Z
LAST-MODIFIED:20251024T164435Z
UID:5853-1761330600-1761339600@tremontschool.org
SUMMARY:Tremont Bingo Night!
DESCRIPTION:
URL:https://tremontschool.org/event/tremont-bingo-night/
END:VEVENT
BEGIN:VEVENT
DTSTART;VALUE=DATE:20251023
DTEND;VALUE=DATE:20251024
DTSTAMP:20260420T035925
CREATED:20251014T182826Z
LAST-MODIFIED:20251023T164325Z
UID:5931-1761177600-1761263999@tremontschool.org
SUMMARY:Gaining Ground Middle School
DESCRIPTION:
URL:https://tremontschool.org/event/gaining-ground-high-school/
END:VEVENT
BEGIN:VEVENT
DTSTART;VALUE=DATE:20251022
DTEND;VALUE=DATE:20251023
DTSTAMP:20260420T035925
CREATED:20251014T182826Z
LAST-MODIFIED:20251022T164327Z
UID:5932-1761091200-1761177599@tremontschool.org
SUMMARY:Gaining Ground High School
DESCRIPTION:
URL:https://tremontschool.org/event/gaining-ground-middle-school/
END:VEVENT
BEGIN:VEVENT
DTSTART;TZID=America/New_York:20251015T080000
DTEND;TZID=America/New_York:20251015T100000
DTSTAMP:20260420T035925
CREATED:20251003T174500Z
LAST-MODIFIED:20251014T182826Z
UID:5899-1760515200-1760522400@tremontschool.org
SUMMARY:Parent Coffee with the Board
DESCRIPTION:
URL:https://tremontschool.org/event/parent-coffee-with-the-board/
END:VEVENT
BEGIN:VEVENT
DTSTART;VALUE=DATE:20251013
DTEND;VALUE=DATE:20251014
DTSTAMP:20260420T035925
CREATED:20250729T181825Z
LAST-MODIFIED:20251013T182825Z
UID:5528-1760313600-1760399999@tremontschool.org
SUMMARY:Indigenous People's Day - School Closed
DESCRIPTION:
URL:https://tremontschool.org/event/indigenous-peoples-day-school-closed/
END:VEVENT
BEGIN:VEVENT
DTSTART;VALUE=DATE:20251013
DTEND;VALUE=DATE:20251014
DTSTAMP:20260420T035925
CREATED:20240409T154545Z
LAST-MODIFIED:20240409T154641Z
UID:3778-1760313600-1760399999@tremontschool.org
SUMMARY:Columbus Day
DESCRIPTION:Public holiday
URL:https://tremontschool.org/event/columbus-day-2/
END:VEVENT
BEGIN:VEVENT
DTSTART;TZID=America/New_York:20251012T140000
DTEND;TZID=America/New_York:20251012T170000
DTSTAMP:20260420T035925
CREATED:20250729T181825Z
LAST-MODIFIED:20251012T182827Z
UID:5530-1760277600-1760288400@tremontschool.org
SUMMARY:Homecoming
DESCRIPTION:
URL:https://tremontschool.org/event/homecoming-2/
END:VEVENT
BEGIN:VEVENT
DTSTART;TZID=America/New_York:20251010T113000
DTEND;TZID=America/New_York:20251010T130000
DTSTAMP:20260420T035925
CREATED:20250819T190131Z
LAST-MODIFIED:20251009T180120Z
UID:5665-1760095800-1760101200@tremontschool.org
SUMMARY:Teacher Appreciation Lunch
DESCRIPTION:
URL:https://tremontschool.org/event/teacher-appreciation-lunch/
END:VEVENT
BEGIN:VEVENT
DTSTART;VALUE=DATE:20251010
DTEND;VALUE=DATE:20251011
DTSTAMP:20260420T035925
CREATED:20250729T181825Z
LAST-MODIFIED:20251010T181147Z
UID:5526-1760054400-1760140799@tremontschool.org
SUMMARY:Professional Development - Noon Dismissal
DESCRIPTION:
URL:https://tremontschool.org/event/professional-development-noon-dismissal/
END:VEVENT
BEGIN:VEVENT
DTSTART;VALUE=DATE:20251002
DTEND;VALUE=DATE:20251003
DTSTAMP:20260420T035925
CREATED:20250729T181825Z
LAST-MODIFIED:20251002T174518Z
UID:5523-1759363200-1759449599@tremontschool.org
SUMMARY:Yom Kippur - School Closed
DESCRIPTION:
URL:https://tremontschool.org/event/yom-kippur-school-closed/
END:VEVENT
BEGIN:VEVENT
DTSTART;VALUE=DATE:20251001
DTEND;VALUE=DATE:20251002
DTSTAMP:20260420T035925
CREATED:20250925T171447Z
LAST-MODIFIED:20251001T173305Z
UID:5887-1759276800-1759363199@tremontschool.org
SUMMARY:Rain date for ALL school hike
DESCRIPTION:
URL:https://tremontschool.org/event/rain-date-for-all-school-hike/
END:VEVENT
BEGIN:VEVENT
DTSTART;VALUE=DATE:20250930
DTEND;VALUE=DATE:20251001
DTSTAMP:20260420T035925
CREATED:20250925T171448Z
LAST-MODIFIED:20250930T171458Z
UID:5888-1759190400-1759276799@tremontschool.org
SUMMARY:ALL School Hike - Assabet Valley
DESCRIPTION:
URL:https://tremontschool.org/event/all-school-hike-assabet-valley/
END:VEVENT
END:VCALENDAR