BEGIN:VCALENDAR
VERSION:2.0
PRODID:-//Tremont School - ECPv6.15.20//NONSGML v1.0//EN
CALSCALE:GREGORIAN
METHOD:PUBLISH
X-ORIGINAL-URL:https://tremontschool.org
X-WR-CALDESC:Events for Tremont School
REFRESH-INTERVAL;VALUE=DURATION:PT1H
X-Robots-Tag:noindex
X-PUBLISHED-TTL:PT1H
BEGIN:VTIMEZONE
TZID:America/New_York
BEGIN:DAYLIGHT
TZOFFSETFROM:-0500
TZOFFSETTO:-0400
TZNAME:EDT
DTSTART:20250309T070000
END:DAYLIGHT
BEGIN:STANDARD
TZOFFSETFROM:-0400
TZOFFSETTO:-0500
TZNAME:EST
DTSTART:20251102T060000
END:STANDARD
BEGIN:DAYLIGHT
TZOFFSETFROM:-0500
TZOFFSETTO:-0400
TZNAME:EDT
DTSTART:20260308T070000
END:DAYLIGHT
BEGIN:STANDARD
TZOFFSETFROM:-0400
TZOFFSETTO:-0500
TZNAME:EST
DTSTART:20261101T060000
END:STANDARD
BEGIN:DAYLIGHT
TZOFFSETFROM:-0500
TZOFFSETTO:-0400
TZNAME:EDT
DTSTART:20270314T070000
END:DAYLIGHT
BEGIN:STANDARD
TZOFFSETFROM:-0400
TZOFFSETTO:-0500
TZNAME:EST
DTSTART:20271107T060000
END:STANDARD
END:VTIMEZONE
BEGIN:VEVENT
DTSTART;TZID=America/New_York:20260529T120000
DTEND;TZID=America/New_York:20260529T123000
DTSTAMP:20260419T153711
CREATED:20260318T184632Z
LAST-MODIFIED:20260411T214714Z
UID:6172-1780056000-1780057800@tremontschool.org
SUMMARY:Tremont noon dismissal
DESCRIPTION:
URL:https://tremontschool.org/event/tremont-noon-dismissal/
END:VEVENT
BEGIN:VEVENT
DTSTART;VALUE=DATE:20260601
DTEND;VALUE=DATE:20260604
DTSTAMP:20260419T153711
CREATED:20250729T181828Z
LAST-MODIFIED:20260411T214714Z
UID:5568-1780272000-1780531199@tremontschool.org
SUMMARY:High School Portfolio Presentations - Families Attend by Appointment
DESCRIPTION:
URL:https://tremontschool.org/event/high-school-portfolio-presentations-families-attend-by-appointment-3/
END:VEVENT
BEGIN:VEVENT
DTSTART;VALUE=DATE:20260604
DTEND;VALUE=DATE:20260605
DTSTAMP:20260419T153711
CREATED:20250729T181828Z
LAST-MODIFIED:20260411T214714Z
UID:5567-1780531200-1780617599@tremontschool.org
SUMMARY:Fun Day - All School
DESCRIPTION:
URL:https://tremontschool.org/event/fun-day-all-school/
END:VEVENT
BEGIN:VEVENT
DTSTART;VALUE=DATE:20260605
DTEND;VALUE=DATE:20260606
DTSTAMP:20260419T153711
CREATED:20250729T181828Z
LAST-MODIFIED:20260411T214714Z
UID:5566-1780617600-1780703999@tremontschool.org
SUMMARY:Last Day of School - Noon Dismissal and Professional Development
DESCRIPTION:
URL:https://tremontschool.org/event/last-day-of-school-noon-dismissal-and-professional-development/
END:VEVENT
BEGIN:VEVENT
DTSTART;TZID=America/New_York:20260605T080000
DTEND;TZID=America/New_York:20260605T100000
DTSTAMP:20260419T153711
CREATED:20251003T174510Z
LAST-MODIFIED:20260411T214714Z
UID:5907-1780646400-1780653600@tremontschool.org
SUMMARY:Parent coffee
DESCRIPTION:
URL:https://tremontschool.org/event/parent-coffee-15/
END:VEVENT
BEGIN:VEVENT
DTSTART;VALUE=DATE:20260608
DTEND;VALUE=DATE:20260613
DTSTAMP:20260419T153711
CREATED:20250729T181829Z
LAST-MODIFIED:20260411T214714Z
UID:5569-1780876800-1781308799@tremontschool.org
SUMMARY:Faculty Work Week
DESCRIPTION:
URL:https://tremontschool.org/event/faculty-work-week-5/
END:VEVENT
BEGIN:VEVENT
DTSTART;VALUE=DATE:20260619
DTEND;VALUE=DATE:20260620
DTSTAMP:20260419T153711
CREATED:20250729T181829Z
LAST-MODIFIED:20260411T214714Z
UID:5570-1781827200-1781913599@tremontschool.org
SUMMARY:Juneteenth - School Closed
DESCRIPTION:
URL:https://tremontschool.org/event/juneteenth-school-closed/
END:VEVENT
END:VCALENDAR