BEGIN:VCALENDAR
VERSION:2.0
PRODID:-//Tremont School - ECPv6.15.20//NONSGML v1.0//EN
CALSCALE:GREGORIAN
METHOD:PUBLISH
X-WR-CALNAME:Tremont School
X-ORIGINAL-URL:https://tremontschool.org
X-WR-CALDESC:Events for Tremont School
REFRESH-INTERVAL;VALUE=DURATION:PT1H
X-Robots-Tag:noindex
X-PUBLISHED-TTL:PT1H
BEGIN:VTIMEZONE
TZID:America/New_York
BEGIN:DAYLIGHT
TZOFFSETFROM:-0500
TZOFFSETTO:-0400
TZNAME:EDT
DTSTART:20240310T070000
END:DAYLIGHT
BEGIN:STANDARD
TZOFFSETFROM:-0400
TZOFFSETTO:-0500
TZNAME:EST
DTSTART:20241103T060000
END:STANDARD
BEGIN:DAYLIGHT
TZOFFSETFROM:-0500
TZOFFSETTO:-0400
TZNAME:EDT
DTSTART:20250309T070000
END:DAYLIGHT
BEGIN:STANDARD
TZOFFSETFROM:-0400
TZOFFSETTO:-0500
TZNAME:EST
DTSTART:20251102T060000
END:STANDARD
BEGIN:DAYLIGHT
TZOFFSETFROM:-0500
TZOFFSETTO:-0400
TZNAME:EDT
DTSTART:20260308T070000
END:DAYLIGHT
BEGIN:STANDARD
TZOFFSETFROM:-0400
TZOFFSETTO:-0500
TZNAME:EST
DTSTART:20261101T060000
END:STANDARD
END:VTIMEZONE
BEGIN:VTIMEZONE
TZID:UTC
BEGIN:STANDARD
TZOFFSETFROM:+0000
TZOFFSETTO:+0000
TZNAME:UTC
DTSTART:20240101T000000
END:STANDARD
END:VTIMEZONE
BEGIN:VEVENT
DTSTART;VALUE=DATE:20250609
DTEND;VALUE=DATE:20250614
DTSTAMP:20260420T030422
CREATED:20240511T172001Z
LAST-MODIFIED:20250613T224334Z
UID:3969-1749427200-1749859199@tremontschool.org
SUMMARY:Faculty work week
DESCRIPTION:
URL:https://tremontschool.org/event/faculty-work-week-3/
END:VEVENT
BEGIN:VEVENT
DTSTART;VALUE=DATE:20250606
DTEND;VALUE=DATE:20250607
DTSTAMP:20260420T030422
CREATED:20240511T172000Z
LAST-MODIFIED:20250606T224351Z
UID:3968-1749168000-1749254399@tremontschool.org
SUMMARY:Last Day- Recognition
DESCRIPTION:
URL:https://tremontschool.org/event/last-day-recognition/
END:VEVENT
BEGIN:VEVENT
DTSTART;VALUE=DATE:20250605
DTEND;VALUE=DATE:20250606
DTSTAMP:20260420T030422
CREATED:20250429T204712Z
LAST-MODIFIED:20250605T224447Z
UID:5403-1749081600-1749167999@tremontschool.org
SUMMARY:All School Fun Day
DESCRIPTION:
URL:https://tremontschool.org/event/all-school-fun-day-2/
END:VEVENT
BEGIN:VEVENT
DTSTART;VALUE=DATE:20250605
DTEND;VALUE=DATE:20250606
DTSTAMP:20260420T030422
CREATED:20250429T204711Z
LAST-MODIFIED:20250605T224446Z
UID:5401-1749081600-1749167999@tremontschool.org
SUMMARY:Fun day (all)
DESCRIPTION:
URL:https://tremontschool.org/event/fun-day-all/
END:VEVENT
BEGIN:VEVENT
DTSTART;TZID=America/New_York:20250604T100000
DTEND;TZID=America/New_York:20250604T113000
DTSTAMP:20260420T030422
CREATED:20250506T211617Z
LAST-MODIFIED:20250603T224347Z
UID:5416-1749031200-1749036600@tremontschool.org
SUMMARY:MS ISP Celebration of Learning
DESCRIPTION:
URL:https://tremontschool.org/event/ms-isp-celebration-of-learning/
END:VEVENT
BEGIN:VEVENT
DTSTART;VALUE=DATE:20250602
DTEND;VALUE=DATE:20250605
DTSTAMP:20260420T030422
CREATED:20250509T211704Z
LAST-MODIFIED:20250604T224341Z
UID:5426-1748822400-1749081599@tremontschool.org
SUMMARY:HS Portfolio sharing
DESCRIPTION:
URL:https://tremontschool.org/event/hs-portfolio-sharing/
END:VEVENT
BEGIN:VEVENT
DTSTART;VALUE=DATE:20250601
DTEND;VALUE=DATE:20250602
DTSTAMP:20260420T030422
CREATED:20240409T154540Z
LAST-MODIFIED:20240409T154633Z
UID:3768-1748736000-1748822399@tremontschool.org
SUMMARY:First Day of LGBTQ+ Pride Month
DESCRIPTION:Observance\nTo hide observances\, go to Google Calendar Settings > Holidays in United States
URL:https://tremontschool.org/event/first-day-of-lgbtq-pride-month-3/
END:VEVENT
BEGIN:VEVENT
DTSTART;VALUE=DATE:20250530
DTEND;VALUE=DATE:20250531
DTSTAMP:20260420T030422
CREATED:20240511T171959Z
LAST-MODIFIED:20250530T221425Z
UID:3967-1748563200-1748649599@tremontschool.org
SUMMARY:Graduation
DESCRIPTION:
URL:https://tremontschool.org/event/graduation/
END:VEVENT
BEGIN:VEVENT
DTSTART;VALUE=DATE:20250528
DTEND;VALUE=DATE:20250530
DTSTAMP:20260420T030422
CREATED:20240613T164124Z
LAST-MODIFIED:20250529T221349Z
UID:4053-1748390400-1748563199@tremontschool.org
SUMMARY:HS- Portfolio Prep
DESCRIPTION:
URL:https://tremontschool.org/event/hs-portfolio-prep/
END:VEVENT
BEGIN:VEVENT
DTSTART;VALUE=DATE:20250526
DTEND;VALUE=DATE:20250527
DTSTAMP:20260420T030422
CREATED:20240913T164058Z
LAST-MODIFIED:20250526T220915Z
UID:4387-1748217600-1748303999@tremontschool.org
SUMMARY:Memorial Day- No School
DESCRIPTION:
URL:https://tremontschool.org/event/memorial-day-no-school/
END:VEVENT
BEGIN:VEVENT
DTSTART;VALUE=DATE:20250521
DTEND;VALUE=DATE:20250529
DTSTAMP:20260420T030422
CREATED:20240613T164123Z
LAST-MODIFIED:20250528T221335Z
UID:4052-1747785600-1748476799@tremontschool.org
SUMMARY:Capstone Project- Seniors
DESCRIPTION:
URL:https://tremontschool.org/event/capstone-project-seniors/
END:VEVENT
BEGIN:VEVENT
DTSTART;TZID=America/New_York:20250517T110000
DTEND;TZID=America/New_York:20250517T140000
DTSTAMP:20260420T030422
CREATED:20241220T202952Z
LAST-MODIFIED:20250516T213252Z
UID:4999-1747479600-1747490400@tremontschool.org
SUMMARY:Saturday Series- MS & HS Minuteman State Park & Picnic
DESCRIPTION:
URL:https://tremontschool.org/event/saturday-series-ms-hs-minuteman-state-park-picnic/
END:VEVENT
BEGIN:VEVENT
DTSTART;TZID=America/New_York:20250516T114500
DTEND;TZID=America/New_York:20250516T144500
DTSTAMP:20260420T030422
CREATED:20250508T211644Z
LAST-MODIFIED:20250515T213201Z
UID:5423-1747395900-1747406700@tremontschool.org
SUMMARY:Music Showcase
DESCRIPTION:
URL:https://tremontschool.org/event/music-showcase-2/
END:VEVENT
BEGIN:VEVENT
DTSTART;VALUE=DATE:20250516
DTEND;VALUE=DATE:20250517
DTSTAMP:20260420T030422
CREATED:20250428T204727Z
LAST-MODIFIED:20250516T213252Z
UID:5380-1747353600-1747439999@tremontschool.org
SUMMARY:Parent Night Out at Rev Hall
DESCRIPTION:
URL:https://tremontschool.org/event/parent-night-out-at-rev-hall/
END:VEVENT
BEGIN:VEVENT
DTSTART;TZID=America/New_York:20250515T183000
DTEND;TZID=America/New_York:20250515T213000
DTSTAMP:20260420T030422
CREATED:20250409T193410Z
LAST-MODIFIED:20250515T213201Z
UID:5352-1747333800-1747344600@tremontschool.org
SUMMARY:Tremont Prom
DESCRIPTION:https://popsicle.app/parents/TremontSchool-aZCn3Hb/activities?activityType=ClassList&search=High School Prom
URL:https://tremontschool.org/event/tremont-prom/
END:VEVENT
BEGIN:VEVENT
DTSTART;VALUE=DATE:20250511
DTEND;VALUE=DATE:20250512
DTSTAMP:20260420T030422
CREATED:20240409T154539Z
LAST-MODIFIED:20240409T154621Z
UID:3765-1746921600-1747007999@tremontschool.org
SUMMARY:Mother's Day
DESCRIPTION:Observance\nTo hide observances\, go to Google Calendar Settings > Holidays in United States
URL:https://tremontschool.org/event/mothers-day-4/
END:VEVENT
BEGIN:VEVENT
DTSTART;VALUE=DATE:20250505
DTEND;VALUE=DATE:20250510
DTSTAMP:20260420T030422
CREATED:20250506T211616Z
LAST-MODIFIED:20250509T211703Z
UID:5415-1746403200-1746835199@tremontschool.org
SUMMARY:Teacher Appreciation Week
DESCRIPTION:
URL:https://tremontschool.org/event/teacher-appreciation-week/
END:VEVENT
BEGIN:VEVENT
DTSTART;VALUE=DATE:20250505
DTEND;VALUE=DATE:20250506
DTSTAMP:20260420T030422
CREATED:20240409T154539Z
LAST-MODIFIED:20240409T154620Z
UID:3763-1746403200-1746489599@tremontschool.org
SUMMARY:Cinco de Mayo
DESCRIPTION:Observance\nTo hide observances\, go to Google Calendar Settings > Holidays in United States
URL:https://tremontschool.org/event/cinco-de-mayo-4/
END:VEVENT
BEGIN:VEVENT
DTSTART;VALUE=DATE:20250501
DTEND;VALUE=DATE:20250502
DTSTAMP:20260420T030422
CREATED:20240409T154538Z
LAST-MODIFIED:20240409T154619Z
UID:3761-1746057600-1746143999@tremontschool.org
SUMMARY:First Day of Asian Pacific American Heritage Month
DESCRIPTION:Observance\nTo hide observances\, go to Google Calendar Settings > Holidays in United States
URL:https://tremontschool.org/event/first-day-of-asian-pacific-american-heritage-month-4/
END:VEVENT
BEGIN:VEVENT
DTSTART;VALUE=DATE:20250430
DTEND;VALUE=DATE:20250503
DTSTAMP:20260420T030422
CREATED:20240613T164119Z
LAST-MODIFIED:20250502T205339Z
UID:4051-1745971200-1746230399@tremontschool.org
SUMMARY:ISP Project
DESCRIPTION:
URL:https://tremontschool.org/event/isp-project/
END:VEVENT
BEGIN:VEVENT
DTSTART;TZID=America/New_York:20250427T090000
DTEND;TZID=America/New_York:20250427T150000
DTSTAMP:20260420T030422
CREATED:20250412T200301Z
LAST-MODIFIED:20250426T204657Z
UID:5362-1745744400-1745766000@tremontschool.org
SUMMARY:Trans Excellence Expo @ Milton Academy
DESCRIPTION:
URL:https://tremontschool.org/event/trans-excellence-expo-milton-academy/
END:VEVENT
BEGIN:VEVENT
DTSTART;TZID=America/New_York:20250427T090000
DTEND;TZID=America/New_York:20250427T120000
DTSTAMP:20260420T030422
CREATED:20241220T202943Z
LAST-MODIFIED:20250426T204657Z
UID:4998-1745744400-1745755200@tremontschool.org
SUMMARY:Saturday Series- Bionic 5k - Middle School\, High School\, Parents
DESCRIPTION:
URL:https://tremontschool.org/event/saturday-series-bionic-5k-middle-school-high-school-parents/
END:VEVENT
BEGIN:VEVENT
DTSTART;VALUE=DATE:20250421
DTEND;VALUE=DATE:20250426
DTSTAMP:20260420T030422
CREATED:20240511T171959Z
LAST-MODIFIED:20250425T204625Z
UID:3966-1745193600-1745625599@tremontschool.org
SUMMARY:April Break
DESCRIPTION:
URL:https://tremontschool.org/event/april-break/
END:VEVENT
BEGIN:VEVENT
DTSTART;VALUE=DATE:20250421
DTEND;VALUE=DATE:20250422
DTSTAMP:20260420T030422
CREATED:20240409T154537Z
LAST-MODIFIED:20240409T154619Z
UID:3759-1745193600-1745279999@tremontschool.org
SUMMARY:Easter Monday
DESCRIPTION:Observance\nTo hide observances\, go to Google Calendar Settings > Holidays in United States
URL:https://tremontschool.org/event/easter-monday/
END:VEVENT
BEGIN:VEVENT
DTSTART;VALUE=DATE:20250420
DTEND;VALUE=DATE:20250421
DTSTAMP:20260420T030422
CREATED:20240409T154537Z
LAST-MODIFIED:20240409T154618Z
UID:3758-1745107200-1745193599@tremontschool.org
SUMMARY:Easter Sunday
DESCRIPTION:Observance\nTo hide observances\, go to Google Calendar Settings > Holidays in United States
URL:https://tremontschool.org/event/easter-sunday-2/
END:VEVENT
BEGIN:VEVENT
DTSTART;VALUE=DATE:20250418
DTEND;VALUE=DATE:20250419
DTSTAMP:20260420T030422
CREATED:20240913T164054Z
LAST-MODIFIED:20250418T203256Z
UID:4386-1744934400-1745020799@tremontschool.org
SUMMARY:Good Friday- No School
DESCRIPTION:
URL:https://tremontschool.org/event/good-friday-no-school/
END:VEVENT
BEGIN:VEVENT
DTSTART;TZID=America/New_York:20250416T180000
DTEND;TZID=America/New_York:20250416T184500
DTSTAMP:20260420T030422
CREATED:20250411T194836Z
LAST-MODIFIED:20250416T201711Z
UID:5357-1744826400-1744829100@tremontschool.org
SUMMARY:Planning for Summer Webinar
DESCRIPTION:──────────Krista Demas is inviting you to a scheduled Zoom meeting.Join Zoom Meeting \nMeeting ID: 942 3792 7204Passcode: 219198 \n— \nOne tap mobile+13092053325\,\,94237927204#\,\,\,\,*219198# US+13126266799\,\,94237927204#\,\,\,\,*219198# US (Chicago) \n— \nDial by your location• +1 309 205 3325 US• +1 312 626 6799 US (Chicago)• +1 646 558 8656 US (New York)• +1 646 931 3860 US• +1 301 715 8592 US (Washington DC)• +1 305 224 1968 US• +1 669 900 9128 US (San Jose)• +1 689 278 1000 US• +1 719 359 4580 US• +1 253 205 0468 US• +1 253 215 8782 US (Tacoma)• +1 346 248 7799 US (Houston)• +1 360 209 5623 US• +1 386 347 5053 US• +1 507 473 4847 US• +1 564 217 2000 US• +1 669 444 9171 US \nMeeting ID: 942 3792 7204Passcode: 219198 \nFind your local number: https://tremontschool-org.zoom.us/u/avl1zLHh4 \n──────────
URL:https://tremontschool.org/event/planning-for-summer-webinar/
LOCATION:https://us04web.zoom.us/j/9877706457?pwd=9GVqiGvrfAebrLFwrNqBi1Km4DdUXJ.1
END:VEVENT
BEGIN:VEVENT
DTSTART;TZID=America/New_York:20250416T081500
DTEND;TZID=America/New_York:20250416T103000
DTSTAMP:20260420T030422
CREATED:20241202T181654Z
LAST-MODIFIED:20241202T181654Z
UID:4855-1744791300-1744799400@tremontschool.org
SUMMARY:Parent Coffee
DESCRIPTION:
URL:https://tremontschool.org/event/parent-coffee-9/
END:VEVENT
BEGIN:VEVENT
DTSTART;VALUE=DATE:20250415
DTEND;VALUE=DATE:20250416
DTSTAMP:20260420T030422
CREATED:20240409T154536Z
LAST-MODIFIED:20240409T154617Z
UID:3756-1744675200-1744761599@tremontschool.org
SUMMARY:Tax Day
DESCRIPTION:Observance\nTo hide observances\, go to Google Calendar Settings > Holidays in United States
URL:https://tremontschool.org/event/tax-day-3/
END:VEVENT
BEGIN:VEVENT
DTSTART;VALUE=DATE:20250410
DTEND;VALUE=DATE:20250412
DTSTAMP:20260420T030422
CREATED:20250207T161656Z
LAST-MODIFIED:20250401T184629Z
UID:5093-1744243200-1744415999@tremontschool.org
SUMMARY:Camping Adventure with Tori- Rain Date
DESCRIPTION:
URL:https://tremontschool.org/event/camping-adventure-with-tori-rain-date/
END:VEVENT
END:VCALENDAR