BEGIN:VCALENDAR
VERSION:2.0
PRODID:-//Tremont School - ECPv6.15.20//NONSGML v1.0//EN
CALSCALE:GREGORIAN
METHOD:PUBLISH
X-WR-CALNAME:Tremont School
X-ORIGINAL-URL:https://tremontschool.org
X-WR-CALDESC:Events for Tremont School
REFRESH-INTERVAL;VALUE=DURATION:PT1H
X-Robots-Tag:noindex
X-PUBLISHED-TTL:PT1H
BEGIN:VTIMEZONE
TZID:UTC
BEGIN:STANDARD
TZOFFSETFROM:+0000
TZOFFSETTO:+0000
TZNAME:UTC
DTSTART:20240101T000000
END:STANDARD
END:VTIMEZONE
BEGIN:VTIMEZONE
TZID:America/New_York
BEGIN:DAYLIGHT
TZOFFSETFROM:-0500
TZOFFSETTO:-0400
TZNAME:EDT
DTSTART:20240310T070000
END:DAYLIGHT
BEGIN:STANDARD
TZOFFSETFROM:-0400
TZOFFSETTO:-0500
TZNAME:EST
DTSTART:20241103T060000
END:STANDARD
BEGIN:DAYLIGHT
TZOFFSETFROM:-0500
TZOFFSETTO:-0400
TZNAME:EDT
DTSTART:20250309T070000
END:DAYLIGHT
BEGIN:STANDARD
TZOFFSETFROM:-0400
TZOFFSETTO:-0500
TZNAME:EST
DTSTART:20251102T060000
END:STANDARD
BEGIN:DAYLIGHT
TZOFFSETFROM:-0500
TZOFFSETTO:-0400
TZNAME:EDT
DTSTART:20260308T070000
END:DAYLIGHT
BEGIN:STANDARD
TZOFFSETFROM:-0400
TZOFFSETTO:-0500
TZNAME:EST
DTSTART:20261101T060000
END:STANDARD
END:VTIMEZONE
BEGIN:VEVENT
DTSTART;VALUE=DATE:20250201
DTEND;VALUE=DATE:20250202
DTSTAMP:20260420T053714
CREATED:20240409T154529Z
LAST-MODIFIED:20240409T154559Z
UID:3747-1738368000-1738454399@tremontschool.org
SUMMARY:First Day of Black History Month
DESCRIPTION:Observance\nTo hide observances\, go to Google Calendar Settings > Holidays in United States
URL:https://tremontschool.org/event/first-day-of-black-history-month-2/
END:VEVENT
BEGIN:VEVENT
DTSTART;TZID=America/New_York:20250201T110000
DTEND;TZID=America/New_York:20250201T130000
DTSTAMP:20260420T053714
CREATED:20241220T202908Z
LAST-MODIFIED:20250201T161700Z
UID:4990-1738407600-1738414800@tremontschool.org
SUMMARY:Saturday Series- Middle School Community Brunch
DESCRIPTION:
URL:https://tremontschool.org/event/saturday-series-middle-school-community-brunch/
END:VEVENT
BEGIN:VEVENT
DTSTART;VALUE=DATE:20250203
DTEND;VALUE=DATE:20250204
DTSTAMP:20260420T053714
CREATED:20240514T174826Z
LAST-MODIFIED:20250203T161658Z
UID:4007-1738540800-1738627199@tremontschool.org
SUMMARY:Parent Conferences
DESCRIPTION:
URL:https://tremontschool.org/event/parent-conferences/
END:VEVENT
BEGIN:VEVENT
DTSTART;TZID=America/New_York:20250204T181500
DTEND;TZID=America/New_York:20250204T191500
DTSTAMP:20260420T053714
CREATED:20250118T160217Z
LAST-MODIFIED:20250204T161619Z
UID:5060-1738692900-1738696500@tremontschool.org
SUMMARY:Life After Tremont
DESCRIPTION:Krista Demas is inviting you to a scheduled Zoom meeting.\nJoin Zoom Meeting\nhttps://tremontschool-org.zoom.us/j/91354703896?pwd=iwqt4wAV20WaturN3QOqd4phX7MeSs.1\nMeeting ID: 913 5470 3896\nPasscode: 233878\n—\nOne tap mobile\n+13092053325\,\,91354703896#\,\,\,\,*233878# US\n+13126266799\,\,91354703896#\,\,\,\,*233878# US (Chicago)\n—\nDial by your location\n• +1 309 205 3325 US\n• +1 312 626 6799 US (Chicago)\n• +1 646 558 8656 US (New York)\n• +1 646 931 3860 US\n• +1 301 715 8592 US (Washington DC)\n• +1 305 224 1968 US\n• +1 564 217 2000 US\n• +1 669 444 9171 US\n• +1 669 900 9128 US (San Jose)\n• +1 689 278 1000 US\n• +1 719 359 4580 US\n• +1 253 205 0468 US\n• +1 253 215 8782 US (Tacoma)\n• +1 346 248 7799 US (Houston)\n• +1 360 209 5623 US\n• +1 386 347 5053 US\n• +1 507 473 4847 US\nMeeting ID: 913 5470 3896\nPasscode: 233878\nFind your local number: https://tremontschool-org.zoom.us/u/adESx6PTFm
URL:https://tremontschool.org/event/life-after-tremont/
LOCATION:https://tremontschool-org.zoom.us/j/91354703896?pwd=iwqt4wAV20WaturN3QOqd4phX7MeSs.1
END:VEVENT
BEGIN:VEVENT
DTSTART;TZID=America/New_York:20250208T100000
DTEND;TZID=America/New_York:20250208T130000
DTSTAMP:20260420T053714
CREATED:20241220T202911Z
LAST-MODIFIED:20250208T161652Z
UID:4991-1739008800-1739019600@tremontschool.org
SUMMARY:Saturday Series-Boston University/ Northeastern University College Visits
DESCRIPTION:
URL:https://tremontschool.org/event/saturday-series-boston-university-northeastern-university-college-visits/
END:VEVENT
BEGIN:VEVENT
DTSTART;TZID=America/New_York:20250212T141500
DTEND;TZID=America/New_York:20250212T151500
DTSTAMP:20260420T053714
CREATED:20241125T175305Z
LAST-MODIFIED:20250212T163453Z
UID:4844-1739369700-1739373300@tremontschool.org
SUMMARY:Parent Coffee
DESCRIPTION:
URL:https://tremontschool.org/event/parent-coffee-7/
END:VEVENT
BEGIN:VEVENT
DTSTART;VALUE=DATE:20250214
DTEND;VALUE=DATE:20250215
DTSTAMP:20260420T053714
CREATED:20240409T154530Z
LAST-MODIFIED:20240409T154600Z
UID:3748-1739491200-1739577599@tremontschool.org
SUMMARY:Valentine's Day
DESCRIPTION:Observance\nTo hide observances\, go to Google Calendar Settings > Holidays in United States
URL:https://tremontschool.org/event/valentines-day-2/
END:VEVENT
BEGIN:VEVENT
DTSTART;VALUE=DATE:20250217
DTEND;VALUE=DATE:20250218
DTSTAMP:20260420T053714
CREATED:20240409T154531Z
LAST-MODIFIED:20240409T154601Z
UID:3749-1739750400-1739836799@tremontschool.org
SUMMARY:Presidents' Day
DESCRIPTION:Public holiday
URL:https://tremontschool.org/event/presidents-day/
END:VEVENT
BEGIN:VEVENT
DTSTART;VALUE=DATE:20250217
DTEND;VALUE=DATE:20250222
DTSTAMP:20260420T053714
CREATED:20240511T171958Z
LAST-MODIFIED:20250221T171651Z
UID:3965-1739750400-1740182399@tremontschool.org
SUMMARY:February Break
DESCRIPTION:
URL:https://tremontschool.org/event/february-break/
END:VEVENT
BEGIN:VEVENT
DTSTART;VALUE=DATE:20250226
DTEND;VALUE=DATE:20250227
DTSTAMP:20260420T053714
CREATED:20250225T173117Z
LAST-MODIFIED:20250225T173117Z
UID:5122-1740528000-1740614399@tremontschool.org
SUMMARY:Secret Yeti
DESCRIPTION:
URL:https://tremontschool.org/event/secret-yeti-2/
END:VEVENT
END:VCALENDAR